BEGIN:VCALENDAR
VERSION:2.0
PRODID:-//Effingham&#039;s News and Sports Leader, 979XFM and KJ Country 102.3 - ECPv6.15.20//NONSGML v1.0//EN
CALSCALE:GREGORIAN
METHOD:PUBLISH
X-ORIGINAL-URL:https://www.thexradio.com/news
X-WR-CALDESC:Events for Effingham&#039;s News and Sports Leader, 979XFM and KJ Country 102.3
REFRESH-INTERVAL;VALUE=DURATION:PT1H
X-Robots-Tag:noindex
X-PUBLISHED-TTL:PT1H
BEGIN:VTIMEZONE
TZID:America/Chicago
BEGIN:DAYLIGHT
TZOFFSETFROM:-0600
TZOFFSETTO:-0500
TZNAME:CDT
DTSTART:20240310T080000
END:DAYLIGHT
BEGIN:STANDARD
TZOFFSETFROM:-0500
TZOFFSETTO:-0600
TZNAME:CST
DTSTART:20241103T070000
END:STANDARD
BEGIN:DAYLIGHT
TZOFFSETFROM:-0600
TZOFFSETTO:-0500
TZNAME:CDT
DTSTART:20250309T080000
END:DAYLIGHT
BEGIN:STANDARD
TZOFFSETFROM:-0500
TZOFFSETTO:-0600
TZNAME:CST
DTSTART:20251102T070000
END:STANDARD
BEGIN:DAYLIGHT
TZOFFSETFROM:-0600
TZOFFSETTO:-0500
TZNAME:CDT
DTSTART:20260308T080000
END:DAYLIGHT
BEGIN:STANDARD
TZOFFSETFROM:-0500
TZOFFSETTO:-0600
TZNAME:CST
DTSTART:20261101T070000
END:STANDARD
END:VTIMEZONE
BEGIN:VEVENT
DTSTART;VALUE=DATE:20251213
DTEND;VALUE=DATE:20251214
DTSTAMP:20260425T164735
CREATED:20251202T143604Z
LAST-MODIFIED:20251212T195340Z
UID:24156-1765584000-1765670399@www.thexradio.com
SUMMARY:Saturday's Schedule
DESCRIPTION:HIGH SCHOOL \nBoys Basketball \nCasey-Westfield at Altamont\, NEW TIME\, 2:30 P.M. \nNewton\, Teutopolis at Sullivan Shootout\, TBA \nConrad Allen Tournament \nAt Wayne City \nGame 1 — North Clay vs. Cisne\, noon \nGame 2 — Webber vs. Sandoval\, 1:30 p.m. \nGame 3 — Wayne City vs. Crab Orchard\, 3 p.m. \nGame 4 — Edwards County vs. Thompsonville\, 4:30 p.m. \nGirls Basketball \nGreenville at Altamont\, NEW TIME\, 11 A.M. \nFlora at Newton\, 11 a.m. \nWrestling \nEffingham\, Cumberland Girls at Marion Invitational HAS BEEN CANCELED \nCumberland Boys at Porta Invitational\, 8:30 a.m. \nFRESHMAN/SOPHOMORE \nBoys Basketball \nEffingham at Flora\, 9 a.m. \nAltamont at Cowden-Herrick/Beecher City\, 10 a.m. \nGirls Basketball \nEffingham at Taylorville Freshman/Sophomore Tournament\, 8 a.m. \nTeutopolis at Paris\, 9 a.m. \nJUNIOR HIGH SCHOOL \nBoys Basketball \nEdison at Effingham\, 10 a.m. \nTeutopolis\, Mahomet-Seymour\, Mattoon at Taylorville\, 9 a.m. \nNational Trail Conference Eighth-Grade Tournament \nAt North Clay \nGame 5 — Stewardson-Strasburg vs. Winner Game 1\, 10 a.m. \nGame 6 — Cumberland vs. Winner Game 2\, 11:15 a.m. \nGame 7 — Sacred Heart vs. Winner Game 3\, 12:30 p.m. \nGame 8 — Sigel St. Michael vs. Winner Game 4\, 1:45 p.m. \nGirls Basketball \nAll IESA State Tournament games have been canceled Saturday and will be rescheduled for Monday\, Tuesday and Thursday \nMEN’S COLLEGE BASKETBALL \nNebraska at University of Illinois\, 3 p.m.
URL:https://www.thexradio.com/news/calendar/24156-saturdays-schedule-39/
CATEGORIES:Local Sports Calendar
END:VEVENT
END:VCALENDAR