BEGIN:VCALENDAR
VERSION:2.0
PRODID:-//Effingham&#039;s News and Sports Leader, 979XFM and KJ Country 102.3 - ECPv6.15.20//NONSGML v1.0//EN
CALSCALE:GREGORIAN
METHOD:PUBLISH
X-ORIGINAL-URL:https://www.thexradio.com/news
X-WR-CALDESC:Events for Effingham&#039;s News and Sports Leader, 979XFM and KJ Country 102.3
REFRESH-INTERVAL;VALUE=DURATION:PT1H
X-Robots-Tag:noindex
X-PUBLISHED-TTL:PT1H
BEGIN:VTIMEZONE
TZID:America/Chicago
BEGIN:DAYLIGHT
TZOFFSETFROM:-0600
TZOFFSETTO:-0500
TZNAME:CDT
DTSTART:20240310T080000
END:DAYLIGHT
BEGIN:STANDARD
TZOFFSETFROM:-0500
TZOFFSETTO:-0600
TZNAME:CST
DTSTART:20241103T070000
END:STANDARD
BEGIN:DAYLIGHT
TZOFFSETFROM:-0600
TZOFFSETTO:-0500
TZNAME:CDT
DTSTART:20250309T080000
END:DAYLIGHT
BEGIN:STANDARD
TZOFFSETFROM:-0500
TZOFFSETTO:-0600
TZNAME:CST
DTSTART:20251102T070000
END:STANDARD
BEGIN:DAYLIGHT
TZOFFSETFROM:-0600
TZOFFSETTO:-0500
TZNAME:CDT
DTSTART:20260308T080000
END:DAYLIGHT
BEGIN:STANDARD
TZOFFSETFROM:-0500
TZOFFSETTO:-0600
TZNAME:CST
DTSTART:20261101T070000
END:STANDARD
END:VTIMEZONE
BEGIN:VEVENT
DTSTART;VALUE=DATE:20251211
DTEND;VALUE=DATE:20251212
DTSTAMP:20260425T164738
CREATED:20251202T143346Z
LAST-MODIFIED:20251210T123823Z
UID:24152-1765411200-1765497599@www.thexradio.com
SUMMARY:Thursday's Schedule
DESCRIPTION:HIGH SCHOOL \nGirls Basketball \nSt. Anthony at Cowden-Herrick/Beecher City\, 6 p.m. \nNokomis at Altamont\, 6 p.m. \nBrownstown/St. Elmo at Windsor/Stewardson-Strasburg\, 6 p.m. \nDieterich at Martinsville\, 6 p.m. \nNeoga vs. Palestine at Lake Land College\, 6 p.m. \nRobinson at Newton\, 5 p.m. \nSouth Central at Ramsey\, 6:15 p.m. \nTeutopolis at St. Joseph-Ogden\, 6 p.m. \nFRESHMEN/SOPHOMORE \nBOYS BASKETBALL \nEffingham at Arthur-Lovington/Atwood-Hammond\, 6 p.m. \nSullivan at St. Anthony\, 6 p.m. \nAltamont at Teutopolis\, 6 p.m. \nNeoga at Cowden-Herrick/Beecher City\, 6 p.m. \nSt. Elmo/Brownstown at Cumberland\, 6 p.m. \nArcola at Windsor/Stewardson-Strasburg\, 6 p.m. \nJUNIOR HIGH SCHOOL \nBoys Basketball \nMattoon at Effingham\, 6 p.m. \nSt. Anthony at Centralia\, 5:30 p.m. \nJasper County at Olney\, 6 p.m. \nTeutopolis at Paris Mayo\, 6 p.m. \nNational Trail Conference Seventh-Grade Tournament \nAt Sigel St. Michael \nGame 15 — South Central vs. Sigel St. Michael\, 5:30 p.m. (consolation championship) \nGame 16 — Neoga vs. Stewardson-Strasburg\, 6:45 p.m. (third place) \nGame 17 — Dieterich vs. St. Elmo/Brownstown\, 6 p.m. (championship) \nGirls Basketball \nClass 7-3A State Tournament \nAt Auburn High School \nGame 7 — Virginia vs. Downs Tri-Valley\, 6 p.m. (third place) \nGame 8 — Teutopolis vs. Hillsboro\, 7:30 p.m. (championship) \nNATIONAL FOOTBALL LEAGUE \nAtlanta at Tampa Bay\, 7:15 p.m.
URL:https://www.thexradio.com/news/calendar/24152-thursdays-schedule-39/
CATEGORIES:Local Sports Calendar
END:VEVENT
END:VCALENDAR