BEGIN:VCALENDAR
VERSION:2.0
PRODID:-//Effingham&#039;s News and Sports Leader, 979XFM and KJ Country 102.3 - ECPv6.15.20//NONSGML v1.0//EN
CALSCALE:GREGORIAN
METHOD:PUBLISH
X-WR-CALNAME:Effingham&#039;s News and Sports Leader, 979XFM and KJ Country 102.3
X-ORIGINAL-URL:https://www.thexradio.com/news
X-WR-CALDESC:Events for Effingham&#039;s News and Sports Leader, 979XFM and KJ Country 102.3
REFRESH-INTERVAL;VALUE=DURATION:PT1H
X-Robots-Tag:noindex
X-PUBLISHED-TTL:PT1H
BEGIN:VTIMEZONE
TZID:America/Chicago
BEGIN:DAYLIGHT
TZOFFSETFROM:-0600
TZOFFSETTO:-0500
TZNAME:CDT
DTSTART:20240310T080000
END:DAYLIGHT
BEGIN:STANDARD
TZOFFSETFROM:-0500
TZOFFSETTO:-0600
TZNAME:CST
DTSTART:20241103T070000
END:STANDARD
BEGIN:DAYLIGHT
TZOFFSETFROM:-0600
TZOFFSETTO:-0500
TZNAME:CDT
DTSTART:20250309T080000
END:DAYLIGHT
BEGIN:STANDARD
TZOFFSETFROM:-0500
TZOFFSETTO:-0600
TZNAME:CST
DTSTART:20251102T070000
END:STANDARD
BEGIN:DAYLIGHT
TZOFFSETFROM:-0600
TZOFFSETTO:-0500
TZNAME:CDT
DTSTART:20260308T080000
END:DAYLIGHT
BEGIN:STANDARD
TZOFFSETFROM:-0500
TZOFFSETTO:-0600
TZNAME:CST
DTSTART:20261101T070000
END:STANDARD
END:VTIMEZONE
BEGIN:VEVENT
DTSTART;VALUE=DATE:20251209
DTEND;VALUE=DATE:20251210
DTSTAMP:20260425T164625
CREATED:20251202T140246Z
LAST-MODIFIED:20251209T195157Z
UID:24144-1765238400-1765324799@www.thexradio.com
SUMMARY:Tuesday's Schedule
DESCRIPTION:HIGH SCHOOL \nBoys Basketball \nCharleston at Effingham\, 5:30 p.m. (LISTEN ON 979XFM) \nCowden-Herrick/Beecher City at St. Anthony\, 6 p.m. \nAltamont at Newton\, 6 p.m. \nCasey-Westfield at Cumberland\, 7:30 p.m. \nNeoga at Dieterich\, 5 p.m. \nSouth Central at Vandalia\, 6 p.m. \nTeutopolis at Paris\, 6 p.m. \nWindsor/Stewardson-Strasburg at Arcola\, 6 p.m. \nGirls Basketball \nNeoga vs. Tri-County at Lake Land College\, 6 p.m. \nWindsor/Stewardson-Strasburg at Arcola\, 6 p.m. \nFRESHMAN/SOPHOMORE \nBoys Basketball \nCowden-Herrick/Beecher City at St. Anthony\, 5 p.m. \nGirls Basketball \nRichland County\, Olney at Altamont\, 6 p.m. \nJUNIOR HIGH SCHOOL \nBoys Basketball \nNational Trail Conference Seventh-Grade Tournament \nGame 12 — Windsor vs. Cumberland\, 5:30 p.m. \nGame 13 — Altamont vs. Sigel St. Michael\, 6:45 p.m. \nGame 14 — St. Elmo/Brownstown vs. Stewardson-Strasburg\, 8 p.m. \nCharleston at Jasper County\, 6 p.m. \nNeoga at Martinsville\, 6 p.m. \nRichland County\, Olney at Teutopolis\, 6 p.m. \nMEN’S COLLEGE BASKETBALL \nUniversity of Illinois at Ohio State\, 6:30 p.m.
URL:https://www.thexradio.com/news/calendar/24144-tuesdays-schedule-39/
CATEGORIES:Local Sports Calendar
END:VEVENT
END:VCALENDAR