BEGIN:VCALENDAR
VERSION:2.0
PRODID:-//Effingham&#039;s News and Sports Leader, 979XFM and KJ Country 102.3 - ECPv6.15.20//NONSGML v1.0//EN
CALSCALE:GREGORIAN
METHOD:PUBLISH
X-ORIGINAL-URL:https://www.thexradio.com/news
X-WR-CALDESC:Events for Effingham&#039;s News and Sports Leader, 979XFM and KJ Country 102.3
REFRESH-INTERVAL;VALUE=DURATION:PT1H
X-Robots-Tag:noindex
X-PUBLISHED-TTL:PT1H
BEGIN:VTIMEZONE
TZID:America/Chicago
BEGIN:DAYLIGHT
TZOFFSETFROM:-0600
TZOFFSETTO:-0500
TZNAME:CDT
DTSTART:20240310T080000
END:DAYLIGHT
BEGIN:STANDARD
TZOFFSETFROM:-0500
TZOFFSETTO:-0600
TZNAME:CST
DTSTART:20241103T070000
END:STANDARD
BEGIN:DAYLIGHT
TZOFFSETFROM:-0600
TZOFFSETTO:-0500
TZNAME:CDT
DTSTART:20250309T080000
END:DAYLIGHT
BEGIN:STANDARD
TZOFFSETFROM:-0500
TZOFFSETTO:-0600
TZNAME:CST
DTSTART:20251102T070000
END:STANDARD
BEGIN:DAYLIGHT
TZOFFSETFROM:-0600
TZOFFSETTO:-0500
TZNAME:CDT
DTSTART:20260308T080000
END:DAYLIGHT
BEGIN:STANDARD
TZOFFSETFROM:-0500
TZOFFSETTO:-0600
TZNAME:CST
DTSTART:20261101T070000
END:STANDARD
END:VTIMEZONE
BEGIN:VEVENT
DTSTART;VALUE=DATE:20251206
DTEND;VALUE=DATE:20251207
DTSTAMP:20260425T164609
CREATED:20251120T162749Z
LAST-MODIFIED:20251204T134108Z
UID:23379-1764979200-1765065599@www.thexradio.com
SUMMARY:Saturday's Schedule
DESCRIPTION:HIGH SCHOOL \nBoys Basketball \nEffingham vs. Vienna\, 1 p.m. at Marion \nTimothy Christian at Newton\, 2 p.m. \nSt. Elmo/Brownstown at Tri-County\, Kansas\, 11 a.m. \nUnity at Teutopolis\, 1 p.m. \nGirls Basketball \nTeutopolis at Richland County\, Olney\, 1 p.m. \nWrestling \nEffingham at Cumberland Boys Pirate Duals\, 9 a.m. \nFRESHMAN/SOPHOMORE \nBoys Basketball \nWindsor/Stewardson-Strasburg at Cerro Gordo Freshman/Sophomore Tournament\, TBA \nJUNIOR HIGH SCHOOL \nBoys Basketball \nNational Trail Conference Seventh-Grade Tournament at Sigel \nRichland County\, Olney at St. Anthony\, 10 a.m. \nGirls Basketball \nClass 7-3A State Tournament \nAt Auburn High School \nGame 1– Virginia vs. Washington\, 10 a.m. \nGame 2 — Teutopolis vs. Forrest Prairie Central\, 11:30 a.m. \nGame 3 — Downs Tri-Valley vs. Burr Ridge Gower\, 1 p.m. \nGame 4 — Princeton Logan vs. Hillsboro\, 2:30 p.m. \nGame 5 — Winner Game 1 vs. Winner Game 2\, 5 p.m. \nGame 6 — Winner Game 3 vs. Winner Game 4\, 6:30 p.m. \nMEN’S COLLEGE BASKETBALL \nUniversity of Illinois at Tennessee\, 7 p.m. \nLindenwood at Eastern Illinois University\, 7 p.m.
URL:https://www.thexradio.com/news/calendar/23379-saturdays-schedule-38/
CATEGORIES:Local Sports Calendar
END:VEVENT
END:VCALENDAR