BEGIN:VCALENDAR
VERSION:2.0
PRODID:-//Effingham&#039;s News and Sports Leader, 979XFM and KJ Country 102.3 - ECPv6.15.20//NONSGML v1.0//EN
CALSCALE:GREGORIAN
METHOD:PUBLISH
X-ORIGINAL-URL:https://www.thexradio.com/news
X-WR-CALDESC:Events for Effingham&#039;s News and Sports Leader, 979XFM and KJ Country 102.3
REFRESH-INTERVAL;VALUE=DURATION:PT1H
X-Robots-Tag:noindex
X-PUBLISHED-TTL:PT1H
BEGIN:VTIMEZONE
TZID:America/Chicago
BEGIN:DAYLIGHT
TZOFFSETFROM:-0600
TZOFFSETTO:-0500
TZNAME:CDT
DTSTART:20240310T080000
END:DAYLIGHT
BEGIN:STANDARD
TZOFFSETFROM:-0500
TZOFFSETTO:-0600
TZNAME:CST
DTSTART:20241103T070000
END:STANDARD
BEGIN:DAYLIGHT
TZOFFSETFROM:-0600
TZOFFSETTO:-0500
TZNAME:CDT
DTSTART:20250309T080000
END:DAYLIGHT
BEGIN:STANDARD
TZOFFSETFROM:-0500
TZOFFSETTO:-0600
TZNAME:CST
DTSTART:20251102T070000
END:STANDARD
BEGIN:DAYLIGHT
TZOFFSETFROM:-0600
TZOFFSETTO:-0500
TZNAME:CDT
DTSTART:20260308T080000
END:DAYLIGHT
BEGIN:STANDARD
TZOFFSETFROM:-0500
TZOFFSETTO:-0600
TZNAME:CST
DTSTART:20261101T070000
END:STANDARD
END:VTIMEZONE
BEGIN:VEVENT
DTSTART;VALUE=DATE:20251205
DTEND;VALUE=DATE:20251206
DTSTAMP:20260425T175855
CREATED:20251120T162634Z
LAST-MODIFIED:20251205T194513Z
UID:23377-1764892800-1764979199@www.thexradio.com
SUMMARY:Friday's Schedule
DESCRIPTION:HIGH SCHOOL \nBoys Basketball \nNorth Clay at St. Anthony\, 6 p.m. \nVandalia at Altamont\, 6 p.m. \nRamsey at Cowden-Herrick/Beecher City (homecoming)\, 6 p.m. \nCumberland at Oblong/Palestine/Hutsonville\, 7:30 p.m. \nNeoga at St. Elmo/Brownstown\, 6 p.m. \nPatoka at South Central\, 6 p.m. \nDieterich at Windsor/Stewardson-Strasburg\, 5 p.m. \nParis at Newton\, 6 p.m. \nGirls Basketball \nWebber Township (Bluford) at Brownstown/St. Elmo\, 6:15 p.m. \nGirls Wrestling \nCumberland at Granite City\, 4 p.m. \nFRESHMAN/SOPHOMORE \nBoys Basketball \nNorth Clay at St. Anthony\, 5 p.m. \nCumberland at Oblong/Palestine/Hutsonville\, 5 p.m. \nJUNIOR HIGH SCHOOL \nGirls Basketball \nClass 8-1A Sigel St. Michael Regional \n(To Be Held at Teutopolis Jr. High School) \nGame 5 — Sigel St. Michael vs. Neoga\, 7 p.m. (championship) \nClass 8-2A Casey-Westfield Regional \nGame 5 — St. Anthony vs. Cumberland\, 6 p.m. (championship) \nClass 8-2A South Central Regional \nGame 6 — Dieterich vs. Albion\, 6 p.m. (championship) \nClass 8-3A Lawrenceville Parkview Regional \nGame 3 — Lawrenceville Parkview vs. Red Hill\, 6 p.m. \nGame 4 — Teutopolis vs. Robinson Nuttall\, 7:30 p.m.
URL:https://www.thexradio.com/news/calendar/23377-fridays-schedule-39/
CATEGORIES:Local Sports Calendar
END:VEVENT
END:VCALENDAR