BEGIN:VCALENDAR
VERSION:2.0
PRODID:-//Effingham&#039;s News and Sports Leader, 979XFM and KJ Country 102.3 - ECPv6.15.20//NONSGML v1.0//EN
CALSCALE:GREGORIAN
METHOD:PUBLISH
X-ORIGINAL-URL:https://www.thexradio.com/news
X-WR-CALDESC:Events for Effingham&#039;s News and Sports Leader, 979XFM and KJ Country 102.3
REFRESH-INTERVAL;VALUE=DURATION:PT1H
X-Robots-Tag:noindex
X-PUBLISHED-TTL:PT1H
BEGIN:VTIMEZONE
TZID:America/Chicago
BEGIN:DAYLIGHT
TZOFFSETFROM:-0600
TZOFFSETTO:-0500
TZNAME:CDT
DTSTART:20240310T080000
END:DAYLIGHT
BEGIN:STANDARD
TZOFFSETFROM:-0500
TZOFFSETTO:-0600
TZNAME:CST
DTSTART:20241103T070000
END:STANDARD
BEGIN:DAYLIGHT
TZOFFSETFROM:-0600
TZOFFSETTO:-0500
TZNAME:CDT
DTSTART:20250309T080000
END:DAYLIGHT
BEGIN:STANDARD
TZOFFSETFROM:-0500
TZOFFSETTO:-0600
TZNAME:CST
DTSTART:20251102T070000
END:STANDARD
BEGIN:DAYLIGHT
TZOFFSETFROM:-0600
TZOFFSETTO:-0500
TZNAME:CDT
DTSTART:20260308T080000
END:DAYLIGHT
BEGIN:STANDARD
TZOFFSETFROM:-0500
TZOFFSETTO:-0600
TZNAME:CST
DTSTART:20261101T070000
END:STANDARD
END:VTIMEZONE
BEGIN:VEVENT
DTSTART;VALUE=DATE:20251204
DTEND;VALUE=DATE:20251205
DTSTAMP:20260425T164518
CREATED:20251120T162529Z
LAST-MODIFIED:20251204T133827Z
UID:23375-1764806400-1764892799@www.thexradio.com
SUMMARY:Thursday's Schedule
DESCRIPTION:HIGH SCHOOL \nGirls Basketball \nWindsor/Stewardson-Strasburg at St. Anthony\, JV (two 10-minute running clock quarters)\, 6 p.m. (LISTEN ON KJ COUNTRY 102.3 AROUND 6:30 P.M.) \nCharleston at Effingham\, 6 p.m. \nCasey-Westfield at Altamont\, 6 p.m. \nBrownstown/St. Elmo at Dieterich\, 6:15 p.m. \nMartinsville at Cowden-Herrick/Beecher City\, 6 p.m. \nCumberland at Oblong (varsity only)\, 6 p.m. \nNeoga at North Clay\, 6 p.m. \nParis at Newton\, 6 p.m. \nSouth Central at Webber Township (Bluford)\, 6:15 p.m. \nBenton at Teutopolis\, 6 p.m. \nFRESHMAN/SOPHOMORE \nBoys Basketball \nSt. Anthony at Teutopolis\, 6 p.m. \nEffingham at Mattoon\, 5:30 p.m. \nDieterich at Cowden-Herrick/Beecher City\, 6 p.m. \nJUNIOR HIGH SCHOOL \nBoys Basketball \nEffingham at St. Anthony\, 6 p.m. \nStewardson-Strasburg at Effingham Sacred Heart\, 6 p.m. \nCowden-Herrick/Beecher City at Altamont\, 6 p.m. \nWindsor at Dieterich\, 6 p.m. \nNorth Clay at Jasper County\, 6 p.m. \nSigel St. Michael at St. Elmo/Brownstown\, 6 p.m. \nTeutopolis at Vandalia\, 6 p.m. \nGirls Basketball \nClass 8-1A Sigel St. Michael Regional \nGame 3– Sigel St. Michael vs. Mattoon St. John’s\, 6 p.m. \nGame 2 — Pana Sacred Heart vs. Neoga\, 7:15 p.m. \nClass 8-2A Casey-Westfield Regional \nGame 3 — Effingham St. Anthony vs. Paris Crestwood\, 6 p.m. \nGame 4 — Casey-Westfield vs. Cumberland\, 7 p.m. \nClass 8-2A South Central Regional \nGame 4 — Dieterich vs. South Central\, 6 p.m. \nGame 5 — Albion vs. Altamont\, 7:30 p.m. \nClass 8-3A Lawrenceville Parkview Regional \nGame 1 — Red Hill (Bridgeport) vs. Marshall\, 6 p.m. \nGame 2 — Jasper County vs. Robinson Nuttall\, 7:30 p.m. \nClass 8-4A Taylorville Regional \nGame 4 — Mount Zion vs. Effingham\, 5 p.m. \nGame 5 — Mattoon vs. Taylorville\, 6:15 p.m. \nNATIONAL FOOTBALL LEAGUE \nDallas at Detroit\, 7:15 p.m.
URL:https://www.thexradio.com/news/calendar/23375-thursdays-schedule-38/
CATEGORIES:Local Sports Calendar
END:VEVENT
END:VCALENDAR