BEGIN:VCALENDAR
VERSION:2.0
PRODID:-//Effingham&#039;s News and Sports Leader, 979XFM and KJ Country 102.3 - ECPv6.15.20//NONSGML v1.0//EN
CALSCALE:GREGORIAN
METHOD:PUBLISH
X-ORIGINAL-URL:https://www.thexradio.com/news
X-WR-CALDESC:Events for Effingham&#039;s News and Sports Leader, 979XFM and KJ Country 102.3
REFRESH-INTERVAL;VALUE=DURATION:PT1H
X-Robots-Tag:noindex
X-PUBLISHED-TTL:PT1H
BEGIN:VTIMEZONE
TZID:America/Chicago
BEGIN:DAYLIGHT
TZOFFSETFROM:-0600
TZOFFSETTO:-0500
TZNAME:CDT
DTSTART:20240310T080000
END:DAYLIGHT
BEGIN:STANDARD
TZOFFSETFROM:-0500
TZOFFSETTO:-0600
TZNAME:CST
DTSTART:20241103T070000
END:STANDARD
BEGIN:DAYLIGHT
TZOFFSETFROM:-0600
TZOFFSETTO:-0500
TZNAME:CDT
DTSTART:20250309T080000
END:DAYLIGHT
BEGIN:STANDARD
TZOFFSETFROM:-0500
TZOFFSETTO:-0600
TZNAME:CST
DTSTART:20251102T070000
END:STANDARD
BEGIN:DAYLIGHT
TZOFFSETFROM:-0600
TZOFFSETTO:-0500
TZNAME:CDT
DTSTART:20260308T080000
END:DAYLIGHT
BEGIN:STANDARD
TZOFFSETFROM:-0500
TZOFFSETTO:-0600
TZNAME:CST
DTSTART:20261101T070000
END:STANDARD
END:VTIMEZONE
BEGIN:VEVENT
DTSTART;VALUE=DATE:20251129
DTEND;VALUE=DATE:20251130
DTSTAMP:20260425T175939
CREATED:20251120T160926Z
LAST-MODIFIED:20251129T183637Z
UID:23361-1764374400-1764460799@www.thexradio.com
SUMMARY:Saturday's Schedule
DESCRIPTION:HIGH SCHOOL \nBoys Basketball \nSt. Anthony Turkey Tournament  (SATURDAY’S GAMES AT THE TOURNAMENT HAVE BEEN CANCELED) \nGame 13 – Pool A No. 4 vs. Pool B No. 4\, 3 p.m. \nGame 14 – Pool A No. 3 vs. Pool B No. 3\, 4:30 p.m. \nGame 15 – Pool A No. 2 vs. Pool B No. 2\, 6 p.m. \nGame 16 – Pool A No. 1 vs. Pool B No. 1\, 7:30 p.m. \nCumberland Turkey Tournament  (SATURDAY’S GAMES AT THE CUMBERLAND TOURNAMENT HAVE BEEN CANCELED) \nGame 9 – Loser Game 5 vs. Loser Game 6\, 1:30 p.m. (Seventh Place) \nGame 10 – Winner Game 5 vs. Winner Game 6\, 3 p.m. (Consolation Championship) \nGame 11 – Loser Game 7 vs. Loser Game 8\, 4:30 p.m. (Third Place) \nGame 12 – Winner Game 7 vs. Winner Game 8\, 6 p.m. (Championship) \nMulberry Grove Thanksgiving Tournament \nGame 13 – Fourth Place Pool A vs. Fourth Place Pool B\, 1:30 p.m. (seventh place)  (GAME HAS BEEN CANCELED) \nGame 14 – Third Place Pool A vs. Third Place Pool B\, 3 p.m. (fifth place)  (GAME HAS BEEN CANCELED) \nGame 15 – South Central A vs. St. Elmo/Brownstown\, 4:30 p.m. (third place)  (GAME WILL NOW BE PLAYED AT 6PM) \nGame 16 – Maryville Christian vs. Father McGivney\, 6 p.m. (championship)  (GAME WILL NOW BE PLAYED AT 7:30PM) \nCerro Gordo Tournament \nGame 1 – 3rd Pod C vs. 3rd Pod B\, 10 a.m. \nGame 2 – 3rd Pod A vs. 3rd Pod D\, 11:30 a.m. \nGame 3 – Loser Friday 1 p.m. Game vs. Loser Friday 2:30 p.m. Game\, (7th/8th Place Game)\, 1 p.m. \nGame 4 – Winner Friday 1 p.m. Game vs. Winner Friday 2:30 p.m. Game (5th/6th Place Game)\, 2:30 p.m. \nGame 5 – Loser Friday 5:30 p.m. Game vs. Loser Friday 7 p.m. Game\, 7 p.m. (third-fourth place) \nGame 6 – Winner Friday 5:30 p.m. Game vs. Winner Friday 7 p.m. Game\, 5:30 p.m. (championship) \nMary Sur Shootout  (SATURDAY’S GAMES HAVE BEEN CANCELED) \nAt Mattoon Emerald Acres \nGame 3 — Neoga vs. Arcola\, 12:30 p.m. \nGame 4 — Nokomis vs. Georgetown-Ridge Farm\, 12:30 p.m. \nGame 5 — Georgetown-Ridge Farm vs. Neoga\, 3:30 p.m. \nGame 6 — Arcola vs. Nokomis\, 3:30 p.m. \nCapital Classic \nAt Red Hill \nGame 5 – Mount Carmel vs. Fairfield\, 10 a.m. \nGame 6 – Red Hill vs. Teutopolis\, 11:30 a.m. \nAt Lawrenceville \nGame 5 – Vincennes vs. Richland County\, Olney\, 10 a.m. \nGame 6 – Lawrenceville vs. Salem\, 11:30 a.m. \nChampionship Round \nSeventh Place Game\, 3 p.m. \nFifth Place Game\, 4:30 p.m. \nThird Place Game\, 6 p.m. \nFirst Place Game\, 7:30 p.m. \nGirls Basketball \nCowden-Herrick/Beecher City Thanksgiving Tournament  HAS BEEN CANCELLED \nGame 10 – Pool A 3 vs. Pool B 3\, 11 a.m. (fifth place) \nGame 11 – Pool A 2 vs. Pool B 2\, 12:30 p.m. (third place) \nGame 12 – Pool A 1 vs. Pool B 1\, 2 p.m. (championship) \nPana Thanksgiving Tournament  (SATURDAY’S GAMES HAVE BEEN CANCELED) \nGame 1 – Loser Game 3 vs. Loser Game 4\, 1 p.m. (seventh place) \nGame 2 – Winner Game 3 vs. Winner Game 4\, 2:30 p.m. (fifth place) \nGame 3 – Loser  Game 1 vs. Loser Game 2\, 4 p.m. (third place) \nGame 4 – Winner Game 1 vs. Winner Game 2\, 5:30 p.m. (championship) \nMary Sur Shootout  (SATURDAY’S GAMES HAVE BEEN CANCELED) \nAt Mattoon Emerald Acres \nGame 3 — Neoga vs. Wayne City/Cisne\, 11 a.m. \nGame 4 — Okaw Valley vs. Georgetown-Ridge Farm\, 11 a.m. \nGame 5 — Georgetown-Ridge Farm vs. Neoga\, 2 p.m. \nGame 6 — Arcola vs. Nokomis\, 3:30 p.m. \nFRESHMAN/SOPHOMORE \nBoys Basketball \nAltamont\, Cowden-Herrick/Beecher City at St. Elmo/Brownstown\, HAS BEEN CANCELLED \nCOLLEGE FOOTBALL \nNorthwestern University at University of Illinois\, 6:30 p.m.
URL:https://www.thexradio.com/news/calendar/23361-saturdays-schedule-37/
CATEGORIES:Local Sports Calendar
END:VEVENT
END:VCALENDAR