BEGIN:VCALENDAR
VERSION:2.0
PRODID:-//Effingham&#039;s News and Sports Leader, 979XFM and KJ Country 102.3 - ECPv6.15.20//NONSGML v1.0//EN
CALSCALE:GREGORIAN
METHOD:PUBLISH
X-WR-CALNAME:Effingham&#039;s News and Sports Leader, 979XFM and KJ Country 102.3
X-ORIGINAL-URL:https://www.thexradio.com/news
X-WR-CALDESC:Events for Effingham&#039;s News and Sports Leader, 979XFM and KJ Country 102.3
REFRESH-INTERVAL;VALUE=DURATION:PT1H
X-Robots-Tag:noindex
X-PUBLISHED-TTL:PT1H
BEGIN:VTIMEZONE
TZID:America/Chicago
BEGIN:DAYLIGHT
TZOFFSETFROM:-0600
TZOFFSETTO:-0500
TZNAME:CDT
DTSTART:20240310T080000
END:DAYLIGHT
BEGIN:STANDARD
TZOFFSETFROM:-0500
TZOFFSETTO:-0600
TZNAME:CST
DTSTART:20241103T070000
END:STANDARD
BEGIN:DAYLIGHT
TZOFFSETFROM:-0600
TZOFFSETTO:-0500
TZNAME:CDT
DTSTART:20250309T080000
END:DAYLIGHT
BEGIN:STANDARD
TZOFFSETFROM:-0500
TZOFFSETTO:-0600
TZNAME:CST
DTSTART:20251102T070000
END:STANDARD
BEGIN:DAYLIGHT
TZOFFSETFROM:-0600
TZOFFSETTO:-0500
TZNAME:CDT
DTSTART:20260308T080000
END:DAYLIGHT
BEGIN:STANDARD
TZOFFSETFROM:-0500
TZOFFSETTO:-0600
TZNAME:CST
DTSTART:20261101T070000
END:STANDARD
END:VTIMEZONE
BEGIN:VEVENT
DTSTART;VALUE=DATE:20251128
DTEND;VALUE=DATE:20251129
DTSTAMP:20260425T191131
CREATED:20251120T160402Z
LAST-MODIFIED:20251126T195513Z
UID:23359-1764288000-1764374399@www.thexradio.com
SUMMARY:Friday's Schedule
DESCRIPTION:HIGH SCHOOL \nBoys Basketball \nSt. Anthony Turkey Tournament \nGame 9 – Edwardsville vs. Chicago Leo\, 3 p.m. \nGame 10 – Breese Central vs. Rantoul\, 4:30 p.m. \nGame 11 – Mattoon vs. Normandy\, 6 p.m. \nGame 12 — St. Anthony vs. Effingham\, 7:30 p.m. (LISTEN ON KJ COUNTRY 102.3) \nCumberland Turkey Tournament \nGame 5 – Loser Game 3 vs. Loser Game 4\, 3 p.m. \nGame 6 – Vandalia vs. Marshall\, 4:30 p.m. \nGame 7 – Winner Game 3 vs. Winner Game 4\, 6 p.m. \nGame 8 – North Clay vs. Dieterich\, 7:30 p.m. \nMulberry Grove Turkey Tournament \nGame 10 – Maryville Christian vs. Ramsey\, 5:15 p.m. \nGame 11 – South Central vs. Mount Olive\, 6:45 p.m. \nGame 12 – Mulberry Grove vs. St. Elmo/Brownstown\, 8:15 p.m. \nCapital Classic \nAt Red Hill \nGame 1 – Red Hill vs. Fairfield\, 11 a.m. \nGame 2 – Teutopolis vs. Mount Carmel\, 12:30 p.m. \nGame 3 – Fairfield vs. Teutopolis\, 6 p.m. \nGame 4 – Red Hill vs. Mount Carmel\, 7:30 p.m. \nAt Lawrenceville \nGame 1 – Salem vs. Vincennes\, 11 a.m. \nGame 2 – Lawrenceville vs. Richland County\, Olney\, 12:30 p.m. \nGame 3 – Richland County\, Olney vs. Salem\, 6p.m. \nGame 4 – Lawrenceville vs. Vincennes\, 7:30 p.m. \nCerro Gordo Tournament \nGame 1 – 4th Pod B vs. 3rd Pod C\, 10 a.m. \nGame 2 – 3rd Pod B vs. 3rd Pod D\, 11:30 a.m. \nGame 3 – 2nd Pod B vs. 2nd Pod C\, 1 p.m. \nGame 4 – 2nd Pod A vs. 2nd Pod D\, 2:30 p.m. \nGame 5 – 3rd Pod A vs. 4th Pod b\, 4 p.m. \nGame 6 – 1st Pod B vs. 1st Pod C\, 5:30 p.m. \nGame 7 – 1st Pod A vs. 1st Pod D\, 7 p.m. \nMary Sur Shootout \nAt Mattoon Emerald Acres \nGame 1 — Nokomis vs. Neoga\, 12:30 p.m. \nGame 2 — Georgetown-Ridge Farm vs. Arcola\, 12:30 p.m. \nGirls Basketball \nBob Kerans Tournament \nAt Newton \nGame 5 – Flora vs. Altamont\, noon \nGame 6 – Newton vs. Effingham\, 1:30 p.m. \nCowden-Herrick/Beecher City Thanksgiving Tournament \nAt High School Gym \nGame 4 – Sandoval vs. Dieterich\, noon \nGame 5 – Dieterich vs. Cowden-Herrick/Beecher City\, 1:30 p.m. \nGame 6 – Cumberland vs. Shelbyville\, 3 p.m. \nAt Junior High School Gym \nGame 7 – North Clay vs. Cumberland\, noon \nGame 8 – Ramsey vs. Sandoval\, 1:30 p.m. \nGame 9 – Cowden-Herrick/Beecher City vs. Ramsey\, 3 p.m. \nPana Thanksgiving Tournament \nSemifinals \nAt Pana High School \nGame 1 – Highland vs. Breese Mater  Dei 4 p.m. \nGame 2 – Lincoln vs. St. Anthony\, 5:30 p.m. \nAt Pana Junior High School \nGame 3 — Brownstown/St. Elmo vs. Mattoon\, 4 p.m. \nGame 4 — Pana vs. Gillespie\, 5:30 p.m. \nMary Sur Shootout \nAt Mattoon Emerald Acres \nGame 1 — Okaw Valley vs. Neoga\, 11 a.m. \nGame 2 — Georgetown-Ridge Farm vs. Wayne City/Cisne\, 11 a.m. \nFRESHMAN/SOPHOMORE \nGirls Basketball \nTeutopolis at Springfield Southeast Shootout\, TBA \nMEN’S COLLEGE BASKETBALL \nUniversity of Illinois vs. UConn at Madison Square Garden\, 11:30 a.m. \nEastern Illinois University at Purdue\, 11 a.m. \nNATIONAL FOOTBALL LEAGUE \nChicago at Philadelphia\, 2 p.m.
URL:https://www.thexradio.com/news/calendar/23359-fridays-schedule-38/
CATEGORIES:Local Sports Calendar
END:VEVENT
END:VCALENDAR