BEGIN:VCALENDAR
VERSION:2.0
PRODID:-//Effingham&#039;s News and Sports Leader, 979XFM and KJ Country 102.3 - ECPv6.15.20//NONSGML v1.0//EN
CALSCALE:GREGORIAN
METHOD:PUBLISH
X-WR-CALNAME:Effingham&#039;s News and Sports Leader, 979XFM and KJ Country 102.3
X-ORIGINAL-URL:https://www.thexradio.com/news
X-WR-CALDESC:Events for Effingham&#039;s News and Sports Leader, 979XFM and KJ Country 102.3
REFRESH-INTERVAL;VALUE=DURATION:PT1H
X-Robots-Tag:noindex
X-PUBLISHED-TTL:PT1H
BEGIN:VTIMEZONE
TZID:America/Chicago
BEGIN:DAYLIGHT
TZOFFSETFROM:-0600
TZOFFSETTO:-0500
TZNAME:CDT
DTSTART:20240310T080000
END:DAYLIGHT
BEGIN:STANDARD
TZOFFSETFROM:-0500
TZOFFSETTO:-0600
TZNAME:CST
DTSTART:20241103T070000
END:STANDARD
BEGIN:DAYLIGHT
TZOFFSETFROM:-0600
TZOFFSETTO:-0500
TZNAME:CDT
DTSTART:20250309T080000
END:DAYLIGHT
BEGIN:STANDARD
TZOFFSETFROM:-0500
TZOFFSETTO:-0600
TZNAME:CST
DTSTART:20251102T070000
END:STANDARD
BEGIN:DAYLIGHT
TZOFFSETFROM:-0600
TZOFFSETTO:-0500
TZNAME:CDT
DTSTART:20260308T080000
END:DAYLIGHT
BEGIN:STANDARD
TZOFFSETFROM:-0500
TZOFFSETTO:-0600
TZNAME:CST
DTSTART:20261101T070000
END:STANDARD
END:VTIMEZONE
BEGIN:VEVENT
DTSTART;VALUE=DATE:20251125
DTEND;VALUE=DATE:20251126
DTSTAMP:20260425T175816
CREATED:20251120T155908Z
LAST-MODIFIED:20251125T203607Z
UID:23352-1764028800-1764115199@www.thexradio.com
SUMMARY:Tuesday's Schedule
DESCRIPTION:HIGH SCHOOL \nBoys Basketball \nSt. Anthony Turkey Tournament \nGame 3 — Chicago Leo vs. Effingham\, 5 p.m. (LISTEN ON KJ COUNTRY 102.3) \nGame 4 – Normandy vs. Rantoul\, 6:30 p.m. \nGame 5 – Mattoon vs. Breese Central\, 8 p.m. \nCumberland Turkey Tournament \nGame 3 – Casey-Westfield vs. Okaw Valley\, 6 p.m. \nGame 4 – Newton vs. Cumberland\, 7:30 p.m. \nMulberry Grove Turkey Tournament \nGame 4 – Father McGivney vs. Lebanon\, 5:15 p.m. \nGame 5 – Maryville Christian vs. Mount Olive\, 6:45 p.m. \nGame 6 – Ramsey vs. South Central\, 8:15 p.m. \nCerro Gordo Tournament \nAt High School Gym \nGame 3 – Heritage vs. Argenta-Oreana\, 6 p.m. \nGame 4 – Unity Christian vs. Heyworth\, 7:30 p.m. \nAt Junior High School Gym \nGame 3 – University High vs. Hartsburg-Emden\, 6 p.m. \nGame 4 – Fisher vs. Warrensburg-Latham 7:30 p.m. \nAltamont at Decatur St. Teresa\, 6 p.m. \nNeoga vs. Sullivan at Lake Land College\, 6 p.m. \nGirls Basketball \nCowden-Herrick/Beecher City Thanksgiving Tournament \nGame 1 – Dieterich vs. Ramsey\, 4 p.m. \nGame 2 – Cowden-Herrick/Beecher City vs. Sandoval\, 5:30 p.m. \nGame 3 – Shelbyville vs. North Clay\, 7 p.m. \nGreenville at Brownstown/St. Elmo\, 6:15 p.m. \nSalem at Teutopolis\, 6 p.m. \nWrestling \nQuad Meet at Effingham\, 6 p.m. \nJUNIOR HIGH SCHOOL \nBoys Basketball \nEffingham at Dieterich\, 6 p.m. \nVandalia at St. Anthony\, 6 p.m. \nCowden-Herrick/Beecher City at South Central\, 6 p.m. \nJasper County at Sigel St. Michael\, 6 p.m. \nSt. Elmo/Brownstown at Ramsey\, 6 p.m. \nRobinson Nuttall at Teutopolis\, 6 p.m. \nSt. John’s Lutheran at Windsor\, 6 p.m. \nGirls Basketball \nClass 7-2A Casey-Westfield Regional \nGame 5 – Casey-Westfield vs. Paris\, 6 p.m. (championship) \nClass 7-2A North Clay Regional \nGame 5 – Albion vs. South Central\, 5:30 p.m. (championship) \nClass 7-4A Mount Zion Regional \nGame 6 – Mount Zion vs. Taylorville\, 5 p.m. (championship) \nMEN’S COLLEGE BASKETBALL \nEastern Illinois University at Central Arkansas\, 6:30 p.m.
URL:https://www.thexradio.com/news/calendar/23352-tuesdays-schedule-37/
CATEGORIES:Local Sports Calendar
END:VEVENT
END:VCALENDAR