BEGIN:VCALENDAR
VERSION:2.0
PRODID:-//Effingham&#039;s News and Sports Leader, 979XFM and KJ Country 102.3 - ECPv6.15.20//NONSGML v1.0//EN
CALSCALE:GREGORIAN
METHOD:PUBLISH
X-WR-CALNAME:Effingham&#039;s News and Sports Leader, 979XFM and KJ Country 102.3
X-ORIGINAL-URL:https://www.thexradio.com/news
X-WR-CALDESC:Events for Effingham&#039;s News and Sports Leader, 979XFM and KJ Country 102.3
REFRESH-INTERVAL;VALUE=DURATION:PT1H
X-Robots-Tag:noindex
X-PUBLISHED-TTL:PT1H
BEGIN:VTIMEZONE
TZID:America/Chicago
BEGIN:DAYLIGHT
TZOFFSETFROM:-0600
TZOFFSETTO:-0500
TZNAME:CDT
DTSTART:20240310T080000
END:DAYLIGHT
BEGIN:STANDARD
TZOFFSETFROM:-0500
TZOFFSETTO:-0600
TZNAME:CST
DTSTART:20241103T070000
END:STANDARD
BEGIN:DAYLIGHT
TZOFFSETFROM:-0600
TZOFFSETTO:-0500
TZNAME:CDT
DTSTART:20250309T080000
END:DAYLIGHT
BEGIN:STANDARD
TZOFFSETFROM:-0500
TZOFFSETTO:-0600
TZNAME:CST
DTSTART:20251102T070000
END:STANDARD
BEGIN:DAYLIGHT
TZOFFSETFROM:-0600
TZOFFSETTO:-0500
TZNAME:CDT
DTSTART:20260308T080000
END:DAYLIGHT
BEGIN:STANDARD
TZOFFSETFROM:-0500
TZOFFSETTO:-0600
TZNAME:CST
DTSTART:20261101T070000
END:STANDARD
END:VTIMEZONE
BEGIN:VEVENT
DTSTART;VALUE=DATE:20251124
DTEND;VALUE=DATE:20251125
DTSTAMP:20260425T175809
CREATED:20251120T155654Z
LAST-MODIFIED:20251125T154512Z
UID:23347-1763942400-1764028799@www.thexradio.com
SUMMARY:Monday's Schedule
DESCRIPTION:HIGH SCHOOL \nBoys Basketball \nSt. Anthony Turkey Tournament \nGame 1—Breese Central vs. Normandy\, 5 p.m. \nGame 2 – St. Anthony vs. Edwardsville\, 6:30 p.m. \nCumberland Turkey Tournament \nGame 1 – North Clay vs. Vandalia\, 6 p.m. \nGame 2 – Marshall vs. Dieterich\, 7:30 p.m. \nMulberry Grove Turkey Tournament \nGame 1 – Lebanon vs. St. Elmo/Brownstown\, 5:15 p.m. \nGame 2 – Maryville Christian vs. South Central\, 6:45 p.m. \nGame 3 – Mulberry Grove vs. Father McGivney\, 8:15 p.m. \nCerro Gordo Tournament \nAt High School Gym \nGame 1 – Warrensburg-Latham vs. St. Thomas More\, 6 p.m. \nGame 2 – Le Roy vs. Cerro Gordo/Bement\, 7:30 p.m. \nAt Junior High School Gym \nGame 1 – Cowden-Herrick/Beecher City vs. Unity Christian\, 6 p.m. \nGame 2 – Argenta-Oreana vs. Windsor/Stewardson-Strasburg\, 7:30 p.m. \nGirls Basketball \nBob Kerans Tournament \nAt Newton \nGame 1 – Altamont vs. Effingham\, 6 p.m. \nGame 2 – Newton vs. Flora\, 7:30 p.m. \nNeoga vs. Marshall at Lake Land College\, 6 p.m. \nTeutopolis at Mount Carmel\, 6 p.m. \nFRESHMAN/SOPHOMORE \nBoys Basketball \nAltamont at Effingham\, 6 p.m. \nTeutopolis at Highland\, 6 p.m. \nGirls Basketball \nEffingham at Richland County\, Olney\, 6 p.m. \nTeutopolis at Highland\, 6 p.m. \nJUNIOR HIGH SCHOOL \nBoys Basketball \nEffingham Sacred Heart at Cowden-Herrick/Beecher City\, 6 p.m. \nNorth Clay at Brownstown/St. Elmo\, 6:15 p.m. \nDieterich at Cumberland\, 6 p.m. \nJasper County at Casey-Westfield\, 6 p.m. \nSigel St. Michael at Neoga\, 6 p.m. \nWindsor at Stewardson-Strasburg\, 6 p.m. \nGirls Basketball \nClass 7-1A Pana Sacred Heart Regional \nGame 6 – Neoga vs. Mattoon\, 6 p.m. (championship) \nClass 7-2A Casey-Westfield Regional \nGame 3 – Paris Crestwood vs. Stewardson-Strasburg\, 6 p.m. \nGame 4 – Cumberland vs. Casey-Westfield\, 7 p.m. \nClass 7-2A North Clay Regional \nGame 3 – Edwards County (Albion) vs. Cowden-Herrick/Beecher City\, 5 p.m. \nGame 4 – South Central vs. Dieterich\, 6:15 p.m. \nClass 7-3A Teutopolis Regional \nGame 3 — Teutopolis vs. Jasper County\, 6 p.m. \nGame 4 – Robinson Nuttall vs. Red Hill (Bridgeport)\, 7:15 p.m. \nClass 7-4A Mount Zion Regional \nGame 4 – Mount Zion vs.  Effingham\, 5 p.m. \nGame 5 – Mattoon vs. Taylorville\, 6:15 p.m. \nMEN’S COLLEGE BASKETBALL \nUT Rio Grande Valley at University of Illinois\, TBA \nNATIONAL FOOTBALL LEAGUE \nCarolina at San Francisco\, 7:15 p.m.
URL:https://www.thexradio.com/news/calendar/23347-mondays-schedule-36/
CATEGORIES:Local Sports Calendar
END:VEVENT
END:VCALENDAR