BEGIN:VCALENDAR
VERSION:2.0
PRODID:-//Effingham&#039;s News and Sports Leader, 979XFM and KJ Country 102.3 - ECPv6.15.20//NONSGML v1.0//EN
CALSCALE:GREGORIAN
METHOD:PUBLISH
X-ORIGINAL-URL:https://www.thexradio.com/news
X-WR-CALDESC:Events for Effingham&#039;s News and Sports Leader, 979XFM and KJ Country 102.3
REFRESH-INTERVAL;VALUE=DURATION:PT1H
X-Robots-Tag:noindex
X-PUBLISHED-TTL:PT1H
BEGIN:VTIMEZONE
TZID:America/Chicago
BEGIN:DAYLIGHT
TZOFFSETFROM:-0600
TZOFFSETTO:-0500
TZNAME:CDT
DTSTART:20240310T080000
END:DAYLIGHT
BEGIN:STANDARD
TZOFFSETFROM:-0500
TZOFFSETTO:-0600
TZNAME:CST
DTSTART:20241103T070000
END:STANDARD
BEGIN:DAYLIGHT
TZOFFSETFROM:-0600
TZOFFSETTO:-0500
TZNAME:CDT
DTSTART:20250309T080000
END:DAYLIGHT
BEGIN:STANDARD
TZOFFSETFROM:-0500
TZOFFSETTO:-0600
TZNAME:CST
DTSTART:20251102T070000
END:STANDARD
BEGIN:DAYLIGHT
TZOFFSETFROM:-0600
TZOFFSETTO:-0500
TZNAME:CDT
DTSTART:20260308T080000
END:DAYLIGHT
BEGIN:STANDARD
TZOFFSETFROM:-0500
TZOFFSETTO:-0600
TZNAME:CST
DTSTART:20261101T070000
END:STANDARD
END:VTIMEZONE
BEGIN:VEVENT
DTSTART;VALUE=DATE:20251122
DTEND;VALUE=DATE:20251123
DTSTAMP:20260425T180019
CREATED:20251105T162124Z
LAST-MODIFIED:20251120T203024Z
UID:22367-1763769600-1763855999@www.thexradio.com
SUMMARY:Saturday's Schedule
DESCRIPTION:HIGH SCHOOL \nGirls Basketball \nPana Thanksgiving Tournament \nSession 2 Blue Pool at Pana High School \nGame 3 – Pana vs. Lincoln\, 10 a.m. \nGame 4 – Highland vs. Brownstown/St. Elmo\, 11:30 a.m. \nSession 2A Orange Pool at Pana Junior High School \nGame 3 – Mattoon vs. St. Anthony\, 10 a.m. \nGame 4 – Breese Mater Dei vs. Gillespie\, 11:30 a.m. \nSession 3 Blue Pool at Pana High School \nGame 3 — Lincoln vs. Highland\, 4 p.m. \nGame 4 — Pana vs. Brownstown/St. Elmo\, 5:30 p.m. \nSession 3A Orange Pool at Pana Junior High School \nGame 5 – Breese Mater Dei vs. Mattoon\, 4 p.m. \nGame 6 – St. Anthony vs. Gillespie\, 5:30 p.m. \nNAL Tournament \nAt Paris \nGame 7 — Teutopolis vs. Danville\, 10 a.m. \nGame 8– Olney vs. Paris\, 11:30 a.m. \nGame 9 — Charleston vs. Terre Haute North\, 1 p.m. (consolation championship) \nGame 10 — Loser Game 7 vs. Loser Game 8\, 2:30 p.m. (third place) \nGame 11 — Winner  Game 7 vs. Winner Game 8\, 4 p.m. (championship) \nNokomis Tipoff Tournament \nSchedule determined by Thursday’s results \nFRESHMAN/SOPHOMORE \nGirls Basketball \nTeutopolis at Mount Zion\, 10 a.m. \nJUNIOR HIGH SCHOOL \nBoys Basketball \nSt. Anthony Shootout\, 9 a.m. \nGirls Basketball \nClass 7-1A Pana Sacred Heart Regional \nGame — Sigel St. Michael vs. Findlay Okaw Valley\, 10 a.m. \nGame 2 — Mattoon St. John’s vs. Effingham Sacred Heart\, 11:15 a.m. \nGame 3 — Pana Sacred Heart vs. Ramsey\, 12:30 p.m. \nGame 4 — Neoga vs. Winner Game 1\, 2 p.m. \nGame 5 — Winner Game 2 vs. Winner Game 3\, 3:30 p.m. \nClass 7-2A Casey-Westfield Regional \nGame 1 — Stewardson-Strasburg vs. Effingham St. Anthony\, 10 a.m. \nGame 2 — Casey-Westfield vs. Arcola\, 11 a.m. \nClass 7-2A North Clay Regional \nGame 1 — Cowden-Herrick/Beecher City vs. Brownstown/St. Elmo\, 10 a.m. \nGame 2 — Altamont vs. Dieterich\, 11:15 a.m. \nClass 7-3A Teutopolis Regional \nGame 1 — Jasper County vs. Lawrenceville Parkview\, 10 a.m. \nGame 2 — Red Hill (Bridgeport) vs. Marshall\, 11:15 a.m. \nClass 7-3A Mount Zion Regional \nGame 1– Effingham vs. Rochester\, 9 a.m. \nGame 2– Mattoon vs. Stephen Decatur\, 10;15 a.m. \nGame 3 — Taylorville vs. Charleston\, 11:30 a.m. \nCOLLEGE FOOTBALL \nEastern Illinois University at Alabama\, 1 p.m. \nUniversity of Illinois at Wisconsin\, TBA \nMEN’S COLLEGE BASKETBALL \nLong Island at University of Illinois\, TBA
URL:https://www.thexradio.com/news/calendar/22367-saturdays-schedule-36/
CATEGORIES:Local Sports Calendar
END:VEVENT
END:VCALENDAR