BEGIN:VCALENDAR
VERSION:2.0
PRODID:-//Effingham&#039;s News and Sports Leader, 979XFM and KJ Country 102.3 - ECPv6.15.20//NONSGML v1.0//EN
CALSCALE:GREGORIAN
METHOD:PUBLISH
X-WR-CALNAME:Effingham&#039;s News and Sports Leader, 979XFM and KJ Country 102.3
X-ORIGINAL-URL:https://www.thexradio.com/news
X-WR-CALDESC:Events for Effingham&#039;s News and Sports Leader, 979XFM and KJ Country 102.3
REFRESH-INTERVAL;VALUE=DURATION:PT1H
X-Robots-Tag:noindex
X-PUBLISHED-TTL:PT1H
BEGIN:VTIMEZONE
TZID:America/Chicago
BEGIN:DAYLIGHT
TZOFFSETFROM:-0600
TZOFFSETTO:-0500
TZNAME:CDT
DTSTART:20240310T080000
END:DAYLIGHT
BEGIN:STANDARD
TZOFFSETFROM:-0500
TZOFFSETTO:-0600
TZNAME:CST
DTSTART:20241103T070000
END:STANDARD
BEGIN:DAYLIGHT
TZOFFSETFROM:-0600
TZOFFSETTO:-0500
TZNAME:CDT
DTSTART:20250309T080000
END:DAYLIGHT
BEGIN:STANDARD
TZOFFSETFROM:-0500
TZOFFSETTO:-0600
TZNAME:CST
DTSTART:20251102T070000
END:STANDARD
BEGIN:DAYLIGHT
TZOFFSETFROM:-0600
TZOFFSETTO:-0500
TZNAME:CDT
DTSTART:20260308T080000
END:DAYLIGHT
BEGIN:STANDARD
TZOFFSETFROM:-0500
TZOFFSETTO:-0600
TZNAME:CST
DTSTART:20261101T070000
END:STANDARD
END:VTIMEZONE
BEGIN:VEVENT
DTSTART;VALUE=DATE:20251120
DTEND;VALUE=DATE:20251121
DTSTAMP:20260425T175724
CREATED:20251105T161605Z
LAST-MODIFIED:20251120T164847Z
UID:22363-1763596800-1763683199@www.thexradio.com
SUMMARY:Thursday's Schedule
DESCRIPTION:HIGH SCHOOL \nGirls Basketball \nBreese Central at Effingham\, 6 p.m. \nSt. Anthony at Sandoval\, 6 p.m. \nLitchfield at Brownstown/St. Elmo\, 6:15 p.m. \nEdwards County at Cumberland\, 6 p.m. \nNewton at Windsor/Stewardson-Strasburg\, 6 p.m. \nNorth Clay at South Central\, 6 p.m. \nNokomis Tipoff Tournament \nHigh School Gym \nGame 1 — Cowden-Herrick/Beecher City (CHBC) vs. Raymond Lincolnwood\, 6 p.m. \nGame 2 — Nokomis vs. Greenfield/Northwestern (GNHS co-op)\, 7:30 p.m. \nJunior High Gym \nGame 1 — Vandalia vs. Pawnee/Lutheran/Calvary (co-op)\, 6 p.m. \nGame 2 — Piasa Southwestern vs. Maryville Christian\, 7:30 p.m. \nFRESHMAN/SOPHOMORE \nGirls Basketball \nHillsboro at Effingham\, 5 p.m. \nTeutopolis at Richland County\, Olney\, 6 p.m. \nJUNIOR HIGH SCHOOL \nBoys Basketball \nSt. Anthony at Mattoon\, 5 p.m. \nAltamont at Effingham Sacred Heart\, 6 p.m. \nDieterich at South Central\, 6 p.m. \nNeoga at St. John’s Lutheran\, 6 p.m. \nWindsor at North Clay\, 6 p.m. \nSt. Elmo/Brownstown at Cowden-Herrick/Beecher City\, 6 p.m. \nStewardson-Strasburg at Sigel St. Michael\, 6 p.m. \nSummersville at Teutopolis\, 6 p.m. \nGirls Basketball \nCharleston at Effingham\, 6 p.m. \nDieterich at Effingham Sacred Heart\, 6 p.m. \nSigel St. Michael at St. Anthony\, 6 p.m. \nAltamont at Mulberry Grove\, 6 p.m. \nNeoga at Cowden-Herrick/Beecher City\, 6 p.m. \nNorth Clay at Windsor/Stewardson-Strasburg\, 6 p.m. \nNATIONAL FOOTBALL LEAGUE \nBuffalo at Houston\, 7:15 p.m.
URL:https://www.thexradio.com/news/calendar/22363-thursdays-schedule-36/
CATEGORIES:Local Sports Calendar
END:VEVENT
END:VCALENDAR