BEGIN:VCALENDAR
VERSION:2.0
PRODID:-//Effingham&#039;s News and Sports Leader, 979XFM and KJ Country 102.3 - ECPv6.15.20//NONSGML v1.0//EN
CALSCALE:GREGORIAN
METHOD:PUBLISH
X-ORIGINAL-URL:https://www.thexradio.com/news
X-WR-CALDESC:Events for Effingham&#039;s News and Sports Leader, 979XFM and KJ Country 102.3
REFRESH-INTERVAL;VALUE=DURATION:PT1H
X-Robots-Tag:noindex
X-PUBLISHED-TTL:PT1H
BEGIN:VTIMEZONE
TZID:America/Chicago
BEGIN:DAYLIGHT
TZOFFSETFROM:-0600
TZOFFSETTO:-0500
TZNAME:CDT
DTSTART:20240310T080000
END:DAYLIGHT
BEGIN:STANDARD
TZOFFSETFROM:-0500
TZOFFSETTO:-0600
TZNAME:CST
DTSTART:20241103T070000
END:STANDARD
BEGIN:DAYLIGHT
TZOFFSETFROM:-0600
TZOFFSETTO:-0500
TZNAME:CDT
DTSTART:20250309T080000
END:DAYLIGHT
BEGIN:STANDARD
TZOFFSETFROM:-0500
TZOFFSETTO:-0600
TZNAME:CST
DTSTART:20251102T070000
END:STANDARD
BEGIN:DAYLIGHT
TZOFFSETFROM:-0600
TZOFFSETTO:-0500
TZNAME:CDT
DTSTART:20260308T080000
END:DAYLIGHT
BEGIN:STANDARD
TZOFFSETFROM:-0500
TZOFFSETTO:-0600
TZNAME:CST
DTSTART:20261101T070000
END:STANDARD
END:VTIMEZONE
BEGIN:VEVENT
DTSTART;VALUE=DATE:20251117
DTEND;VALUE=DATE:20251118
DTSTAMP:20260425T175848
CREATED:20251105T160921Z
LAST-MODIFIED:20251112T161730Z
UID:22355-1763337600-1763423999@www.thexradio.com
SUMMARY:Monday's Schedule
DESCRIPTION:HIGH SCHOOL \nGirls Basketball \nEffingham at Robinson (VARSITY ONLY)\, 6 p.m. \nBrownstown/St. Elmo at Cumberland\, 6 p.m. \nNeoga at Moweaqua Central A&M\, 6 p.m. \nTeutopolis vs. Charleston at NAL Tournament in Paris\, 6:45 p.m. \nJUNIOR HIGH SCHOOL \nBoys Basketball \nFlora Floyd Henson at Effingham\, 6 p.m. \nNorth Clay at Effingham Sacred Heart\, 6 p.m. \nSt. Anthony at Teutopolis\, 6 p.m. \nCowden-Herrick/Beecher City at Windsor\, 6 p.m. \nDieterich at Casey-Westfield\, 6 p.m. \nJasper County at Hutsonville\, 6 p.m. \nPana Sacred Heart at Sigel St. Michael\, 6 p.m. \nOkaw Valley at Stewardson-Strasburg\, 6 p.m. \nGirls Basketball \nMattoon at Effingham\, 6 p.m. \nEffingham Sacred Heart at North Clay\, 6 p.m. \nAltamont at Charleston\, 4:30 p.m. \nNeoga at South Central\, 6 p.m. \nNATIONAL FOOTBALL LEAGUE \nDallas at Las Vegas\, 7:15 p.m.
URL:https://www.thexradio.com/news/calendar/22355-mondays-schedule-35/
CATEGORIES:Local Sports Calendar
END:VEVENT
END:VCALENDAR