BEGIN:VCALENDAR
VERSION:2.0
PRODID:-//Effingham&#039;s News and Sports Leader, 979XFM and KJ Country 102.3 - ECPv6.15.20//NONSGML v1.0//EN
CALSCALE:GREGORIAN
METHOD:PUBLISH
X-WR-CALNAME:Effingham&#039;s News and Sports Leader, 979XFM and KJ Country 102.3
X-ORIGINAL-URL:https://www.thexradio.com/news
X-WR-CALDESC:Events for Effingham&#039;s News and Sports Leader, 979XFM and KJ Country 102.3
REFRESH-INTERVAL;VALUE=DURATION:PT1H
X-Robots-Tag:noindex
X-PUBLISHED-TTL:PT1H
BEGIN:VTIMEZONE
TZID:America/Chicago
BEGIN:DAYLIGHT
TZOFFSETFROM:-0600
TZOFFSETTO:-0500
TZNAME:CDT
DTSTART:20240310T080000
END:DAYLIGHT
BEGIN:STANDARD
TZOFFSETFROM:-0500
TZOFFSETTO:-0600
TZNAME:CST
DTSTART:20241103T070000
END:STANDARD
BEGIN:DAYLIGHT
TZOFFSETFROM:-0600
TZOFFSETTO:-0500
TZNAME:CDT
DTSTART:20250309T080000
END:DAYLIGHT
BEGIN:STANDARD
TZOFFSETFROM:-0500
TZOFFSETTO:-0600
TZNAME:CST
DTSTART:20251102T070000
END:STANDARD
BEGIN:DAYLIGHT
TZOFFSETFROM:-0600
TZOFFSETTO:-0500
TZNAME:CDT
DTSTART:20260308T080000
END:DAYLIGHT
BEGIN:STANDARD
TZOFFSETFROM:-0500
TZOFFSETTO:-0600
TZNAME:CST
DTSTART:20261101T070000
END:STANDARD
END:VTIMEZONE
BEGIN:VEVENT
DTSTART;VALUE=DATE:20251110
DTEND;VALUE=DATE:20251111
DTSTAMP:20260425T175809
CREATED:20251105T155714Z
LAST-MODIFIED:20251107T120638Z
UID:22337-1762732800-1762819199@www.thexradio.com
SUMMARY:Monday's Schedule
DESCRIPTION:HIGH SCHOOL \nVolleyball \nClass 1A Heyworth Super-sectional \nWindsor/Stewardson-Strasburg vs. Cissna Park\, 6 p.m. \nJUNIOR HIGH SCHOOL \nBoys Basketball \nEffingham St. Anthony at Sigel St. Michael\, 6 p.m. \nAltamont at North Clay\, 6 p.m. \nAltamont Lutheran at Cowden-Herrick/Beecher City\, 6 p.m. \nJasper County at Dieterich\, 6 p.m. \nShiloh at Neoga\, 6 p.m. \nSt. Elmo/Brownstown at Cumberland\, 6 p.m. \nStewardson-Strasburg at Newton St. Thomas\, 6 p.m. \nTeutopolis at Flora Floyd Henson\, 6 p.m. \nOkaw Valley at Windsor\, 6 p.m. \nGirls Basketball \nEffingham at Altamont\, 6 p.m. \nBrownstown/St. Elmo at Dieterich\, 6 p.m. \nCowden-Herrick/Beecher City at Teutopolis\, 6 p.m. \nCasey-Westfield at Jasper County\, 6 p.m. \nShelbyville at Neoga\, 6 p.m. \nSigel St. Michael at Pana St. Pats\, Tower Hill\, 6 p.m. \nSouth Central at Windsor/Stewardson-Strasburg\, 6 p.m. \nNATIONAL FOOTBALL LEAGUE \nPhiladelphia at Green Bay\, 7:15 p.m.
URL:https://www.thexradio.com/news/calendar/22337-mondays-schedule-34/
CATEGORIES:Local Sports Calendar
END:VEVENT
END:VCALENDAR