BEGIN:VCALENDAR
VERSION:2.0
PRODID:-//Effingham&#039;s News and Sports Leader, 979XFM and KJ Country 102.3 - ECPv6.15.20//NONSGML v1.0//EN
CALSCALE:GREGORIAN
METHOD:PUBLISH
X-ORIGINAL-URL:https://www.thexradio.com/news
X-WR-CALDESC:Events for Effingham&#039;s News and Sports Leader, 979XFM and KJ Country 102.3
REFRESH-INTERVAL;VALUE=DURATION:PT1H
X-Robots-Tag:noindex
X-PUBLISHED-TTL:PT1H
BEGIN:VTIMEZONE
TZID:America/Chicago
BEGIN:DAYLIGHT
TZOFFSETFROM:-0600
TZOFFSETTO:-0500
TZNAME:CDT
DTSTART:20240310T080000
END:DAYLIGHT
BEGIN:STANDARD
TZOFFSETFROM:-0500
TZOFFSETTO:-0600
TZNAME:CST
DTSTART:20241103T070000
END:STANDARD
BEGIN:DAYLIGHT
TZOFFSETFROM:-0600
TZOFFSETTO:-0500
TZNAME:CDT
DTSTART:20250309T080000
END:DAYLIGHT
BEGIN:STANDARD
TZOFFSETFROM:-0500
TZOFFSETTO:-0600
TZNAME:CST
DTSTART:20251102T070000
END:STANDARD
BEGIN:DAYLIGHT
TZOFFSETFROM:-0600
TZOFFSETTO:-0500
TZNAME:CDT
DTSTART:20260308T080000
END:DAYLIGHT
BEGIN:STANDARD
TZOFFSETFROM:-0500
TZOFFSETTO:-0600
TZNAME:CST
DTSTART:20261101T070000
END:STANDARD
END:VTIMEZONE
BEGIN:VEVENT
DTSTART;VALUE=DATE:20251106
DTEND;VALUE=DATE:20251107
DTSTAMP:20260425T175939
CREATED:20251029T185645Z
LAST-MODIFIED:20251105T122311Z
UID:21843-1762387200-1762473599@www.thexradio.com
SUMMARY:Thursday's Schedule
DESCRIPTION:HIGH SCHOOL \nVolleyball \nClass 1A Argenta-Oreana Sectional \nMatch 3 – Windsor/Stewardson-Strasburg vs. Heyworth\, 6 p.m. (championship) \nClass 2A Trenton Wesclin Sectional \nMatch 3 – Columbia vs. Nashville\, 6 p.m. \nJUNIOR HIGH SCHOOL \nBoys Basketball \nEffingham Sacred Heart at Martinsville\, 6 p.m. \nAltamont Lutheran at Teutopolis\, 6 p.m. \nFlora at Jasper County\, 6 p.m. \nSullivan at Cowden-Herrick/Beecher City\, 6 p.m. \nSigel St. Michael at Cumberland\, 6 p.m. \nDieterich at Oblong\, 6 p.m. \nNeoga at Okaw Valley\, 6 p.m. \nStewardson-Strasburg at North Clay\, 6 p.m. \nMulberry Grove at St. Elmo/Brownstown\, 6:15 p.m. \nSouth Central at Windsor\, 6 p.m. \nGirls Basketball \nEffingham at St. Anthony\, 6 p.m. \nCowden-Herrick/Beecher City at Altamont\, 6 p.m. \nCumberland at Dieterich\, 6 p.m. \nJasper County at North Clay\, 6 p.m. \nBrownstown/St. Elmo at Neoga\, 6 p.m. \nShelbyville Moulton at Windsor/Stewardson-Strasburg\, 6 p.m. \nNATIONAL FOOTBALL LEAGUE \nLas Vegas at Denver\, 7:15 p.m.
URL:https://www.thexradio.com/news/calendar/21843-thursdays-schedule-34/
CATEGORIES:Local Sports Calendar
END:VEVENT
END:VCALENDAR