BEGIN:VCALENDAR
VERSION:2.0
PRODID:-//Effingham&#039;s News and Sports Leader, 979XFM and KJ Country 102.3 - ECPv6.15.20//NONSGML v1.0//EN
CALSCALE:GREGORIAN
METHOD:PUBLISH
X-ORIGINAL-URL:https://www.thexradio.com/news
X-WR-CALDESC:Events for Effingham&#039;s News and Sports Leader, 979XFM and KJ Country 102.3
REFRESH-INTERVAL;VALUE=DURATION:PT1H
X-Robots-Tag:noindex
X-PUBLISHED-TTL:PT1H
BEGIN:VTIMEZONE
TZID:America/Chicago
BEGIN:DAYLIGHT
TZOFFSETFROM:-0600
TZOFFSETTO:-0500
TZNAME:CDT
DTSTART:20240310T080000
END:DAYLIGHT
BEGIN:STANDARD
TZOFFSETFROM:-0500
TZOFFSETTO:-0600
TZNAME:CST
DTSTART:20241103T070000
END:STANDARD
BEGIN:DAYLIGHT
TZOFFSETFROM:-0600
TZOFFSETTO:-0500
TZNAME:CDT
DTSTART:20250309T080000
END:DAYLIGHT
BEGIN:STANDARD
TZOFFSETFROM:-0500
TZOFFSETTO:-0600
TZNAME:CST
DTSTART:20251102T070000
END:STANDARD
BEGIN:DAYLIGHT
TZOFFSETFROM:-0600
TZOFFSETTO:-0500
TZNAME:CDT
DTSTART:20260308T080000
END:DAYLIGHT
BEGIN:STANDARD
TZOFFSETFROM:-0500
TZOFFSETTO:-0600
TZNAME:CST
DTSTART:20261101T070000
END:STANDARD
END:VTIMEZONE
BEGIN:VEVENT
DTSTART;VALUE=DATE:20251104
DTEND;VALUE=DATE:20251105
DTSTAMP:20260425T175848
CREATED:20251029T185424Z
LAST-MODIFIED:20251104T203826Z
UID:21839-1762214400-1762300799@www.thexradio.com
SUMMARY:Tuesday's Schedule
DESCRIPTION:HIGH SCHOOL \nVolleyball \nClass 1A Argenta-Oreana Sectional \nMatch 1 — Arthur-Lovington/Atwood-Hammond vs. Heyworth\, 6 p.m. \nMatch 2 – LeRoy vs. Windsor/Stewardson-Strasburg\, 7 p.m. \nClass 2A Trenton Wesclin Sectional \nMatch 1 – Columbia vs. Effingham\, 6 p.m. \nMatch 2 – Belleville Althoff Catholic vs. Nashville\, 7 p.m. \nJUNIOR HIGH SCHOOL \nBoys Basketball \nAltamont Lutheran at North Clay\, 6 p.m. \nAltamont at Jasper County\, 6 p.m. \nJasper County at Parkview\, 6 p.m. \nDieterich at Cowden-Herrick/Beecher City\, 6 p.m. \nCumberland at Neoga\, 6 p.m. \nSigel St. Michael at Casey-Westfield\, 6 p.m. \nPana Sacred Heart at Stewardson-Strasburg\, 6 p.m. \nSullivan at Teutopolis\, 6 p.m. \nGirls Basketball \nWindsor/Stewardson-Strasburg at Effingham Sacred Heart\, 6 p.m. \nAltamont at Cumberland\, 6 p.m. \nNokomis at Brownstown/St. Elmo\, 6:15 p.m. \nDieterich at Sigel St. Michael\, 6 p.m. \nJasper County at Parkview\, 6 p.m. \nNeoga at Villa Grove\, 6 p.m. \nTeutopolis at Paris Mayo\, 6 p.m. \nMEN’S COLLEGE BASKETBALL \nEastern Illinois University at Valparaiso\, 7 p.m.
URL:https://www.thexradio.com/news/calendar/21839-tuesdays-schedule-34/
CATEGORIES:Local Sports Calendar
END:VEVENT
END:VCALENDAR