BEGIN:VCALENDAR
VERSION:2.0
PRODID:-//Effingham&#039;s News and Sports Leader, 979XFM and KJ Country 102.3 - ECPv6.15.20//NONSGML v1.0//EN
CALSCALE:GREGORIAN
METHOD:PUBLISH
X-ORIGINAL-URL:https://www.thexradio.com/news
X-WR-CALDESC:Events for Effingham&#039;s News and Sports Leader, 979XFM and KJ Country 102.3
REFRESH-INTERVAL;VALUE=DURATION:PT1H
X-Robots-Tag:noindex
X-PUBLISHED-TTL:PT1H
BEGIN:VTIMEZONE
TZID:America/Chicago
BEGIN:DAYLIGHT
TZOFFSETFROM:-0600
TZOFFSETTO:-0500
TZNAME:CDT
DTSTART:20240310T080000
END:DAYLIGHT
BEGIN:STANDARD
TZOFFSETFROM:-0500
TZOFFSETTO:-0600
TZNAME:CST
DTSTART:20241103T070000
END:STANDARD
BEGIN:DAYLIGHT
TZOFFSETFROM:-0600
TZOFFSETTO:-0500
TZNAME:CDT
DTSTART:20250309T080000
END:DAYLIGHT
BEGIN:STANDARD
TZOFFSETFROM:-0500
TZOFFSETTO:-0600
TZNAME:CST
DTSTART:20251102T070000
END:STANDARD
BEGIN:DAYLIGHT
TZOFFSETFROM:-0600
TZOFFSETTO:-0500
TZNAME:CDT
DTSTART:20260308T080000
END:DAYLIGHT
BEGIN:STANDARD
TZOFFSETFROM:-0500
TZOFFSETTO:-0600
TZNAME:CST
DTSTART:20261101T070000
END:STANDARD
END:VTIMEZONE
BEGIN:VEVENT
DTSTART;VALUE=DATE:20251101
DTEND;VALUE=DATE:20251102
DTSTAMP:20260425T175939
CREATED:20251021T171712Z
LAST-MODIFIED:20251031T111323Z
UID:21184-1761955200-1762041599@www.thexradio.com
SUMMARY:Saturday's Schedule
DESCRIPTION:HIGH SCHOOL \nCross Country \nClass 1A Cumberland Sectional \nGirls Meet 10 a.m. \nSt. Anthony team\, Newton team\, Teutopolis Mary Jane Dennis\, Abigail Zane\, Altamont Katie Tedrick\, Neoga Paula Hohn \nBoys Meet 11 a.m. \nSt. Anthony team\, Cumberland team\, Dieterich team\, Teutopolis team\, Newton team\, Altamont Kelton Dunaway\, Cowden-Herrick/Beecher City August Cosart \nClass 2A Mattoon Sectional \nGirls Meet 10 a.m. \nEffingham Bailey Summers\, Alaina Miller \nBoys meet 11 a.m. \nEffingham Alex Gordon \nFootball \nIHSA Playoffs \nClass 2A \nSullivan at Cumberland\, 2 p.m. \nJUNIOR HIGH SCHOOL \nGirls Basketball \nNational Trail Conference Eighth-Grade Tournament \nAt Beecher City \nGame 12 — North Clay vs. Winner Game 10\, 9 a.m. (consolation championship) \nGame 13 — Dieterich vs. Loser Game 11\, 10:15 a.m. (third place) \nGame 14 — Neoga vs. Winner Game 11\, 11:30 a.m. (championship) \nTeutopolis\, Mount Zion at Effingham Shootout 9 a.m. \nCOLLEGE FOOTBALL \nUT Martin at Eastern Illinois University\, 2 p.m. (family weekend) \nRutgers at University of Illinois\, TBA \nMAJOR LEAGUE BASEBALL \nWorld Series \nGame 7 – Los Angeles Dodgers at Toronto\, 7 p.m.\, if necessary \nNASCAR \nNASCAR Xfinity Series Championship\, 5 p.m.
URL:https://www.thexradio.com/news/calendar/21184-saturdays-schedule-33/
CATEGORIES:Local Sports Calendar
END:VEVENT
END:VCALENDAR