BEGIN:VCALENDAR
VERSION:2.0
PRODID:-//Effingham&#039;s News and Sports Leader, 979XFM and KJ Country 102.3 - ECPv6.15.20//NONSGML v1.0//EN
CALSCALE:GREGORIAN
METHOD:PUBLISH
X-WR-CALNAME:Effingham&#039;s News and Sports Leader, 979XFM and KJ Country 102.3
X-ORIGINAL-URL:https://www.thexradio.com/news
X-WR-CALDESC:Events for Effingham&#039;s News and Sports Leader, 979XFM and KJ Country 102.3
REFRESH-INTERVAL;VALUE=DURATION:PT1H
X-Robots-Tag:noindex
X-PUBLISHED-TTL:PT1H
BEGIN:VTIMEZONE
TZID:America/Chicago
BEGIN:DAYLIGHT
TZOFFSETFROM:-0600
TZOFFSETTO:-0500
TZNAME:CDT
DTSTART:20240310T080000
END:DAYLIGHT
BEGIN:STANDARD
TZOFFSETFROM:-0500
TZOFFSETTO:-0600
TZNAME:CST
DTSTART:20241103T070000
END:STANDARD
BEGIN:DAYLIGHT
TZOFFSETFROM:-0600
TZOFFSETTO:-0500
TZNAME:CDT
DTSTART:20250309T080000
END:DAYLIGHT
BEGIN:STANDARD
TZOFFSETFROM:-0500
TZOFFSETTO:-0600
TZNAME:CST
DTSTART:20251102T070000
END:STANDARD
BEGIN:DAYLIGHT
TZOFFSETFROM:-0600
TZOFFSETTO:-0500
TZNAME:CDT
DTSTART:20260308T080000
END:DAYLIGHT
BEGIN:STANDARD
TZOFFSETFROM:-0500
TZOFFSETTO:-0600
TZNAME:CST
DTSTART:20261101T070000
END:STANDARD
END:VTIMEZONE
BEGIN:VEVENT
DTSTART;VALUE=DATE:20251030
DTEND;VALUE=DATE:20251031
DTSTAMP:20260425T175710
CREATED:20251021T171407Z
LAST-MODIFIED:20251030T111908Z
UID:21180-1761782400-1761868799@www.thexradio.com
SUMMARY:Thursday's Schedule
DESCRIPTION:HIGH SCHOOL \nVolleyball \nClass 1A Windsor/Stewardson-Strasburg Regional \nMatch 7 – Oblong vs. Windsor/Stewardson-Strasburg\, 6 p.m. (championship) \nClass 1A Casey-Westfield Regional \nMatch 7 – Arthur-Lovington/Atwood-Hammond vs. Casey-Westfield\, 6 p.m. (championship) \nClass 1A St. Elmo/Brownstown Regional \nMatch 7 – Okawville vs. St. Elmo/Brownstown\, 6 p.m. (championship) \nClass1A Nokomis Regional \nMatch 6 – Nokomis vs. Carlyle\, 6 p.m. (championship) \nClass 2A Effingham Regional \nMatch 4 – Teutopolis vs. Effingham\, 6 p.m. (championship) \nClass 2A McLeansboro Hamilton Co. Regional \nMatch 4 – Richland County\, Olney vs. Newton\, 6:30 p.m. (championship) \nJUNIOR HIGH SCHOOL \nGirls Basketball \nSt. Anthony at Teutopolis\, 6 p.m. \nNational Trail Conference Eighth-Grade Tournament \nAt Beecher City \nGame 8 — Brownstown/St. Elmo vs. North Clay\, 6 p.m. \nGame 9 — Dieterich vs. Neoga\, 7:15 p.m.
URL:https://www.thexradio.com/news/calendar/21180-thursdays-schedule-33/
CATEGORIES:Local Sports Calendar
END:VEVENT
END:VCALENDAR