BEGIN:VCALENDAR
VERSION:2.0
PRODID:-//Effingham&#039;s News and Sports Leader, 979XFM and KJ Country 102.3 - ECPv6.15.20//NONSGML v1.0//EN
CALSCALE:GREGORIAN
METHOD:PUBLISH
X-ORIGINAL-URL:https://www.thexradio.com/news
X-WR-CALDESC:Events for Effingham&#039;s News and Sports Leader, 979XFM and KJ Country 102.3
REFRESH-INTERVAL;VALUE=DURATION:PT1H
X-Robots-Tag:noindex
X-PUBLISHED-TTL:PT1H
BEGIN:VTIMEZONE
TZID:America/Chicago
BEGIN:DAYLIGHT
TZOFFSETFROM:-0600
TZOFFSETTO:-0500
TZNAME:CDT
DTSTART:20240310T080000
END:DAYLIGHT
BEGIN:STANDARD
TZOFFSETFROM:-0500
TZOFFSETTO:-0600
TZNAME:CST
DTSTART:20241103T070000
END:STANDARD
BEGIN:DAYLIGHT
TZOFFSETFROM:-0600
TZOFFSETTO:-0500
TZNAME:CDT
DTSTART:20250309T080000
END:DAYLIGHT
BEGIN:STANDARD
TZOFFSETFROM:-0500
TZOFFSETTO:-0600
TZNAME:CST
DTSTART:20251102T070000
END:STANDARD
BEGIN:DAYLIGHT
TZOFFSETFROM:-0600
TZOFFSETTO:-0500
TZNAME:CDT
DTSTART:20260308T080000
END:DAYLIGHT
BEGIN:STANDARD
TZOFFSETFROM:-0500
TZOFFSETTO:-0600
TZNAME:CST
DTSTART:20261101T070000
END:STANDARD
END:VTIMEZONE
BEGIN:VEVENT
DTSTART;VALUE=DATE:20251028
DTEND;VALUE=DATE:20251029
DTSTAMP:20260425T175855
CREATED:20251021T171018Z
LAST-MODIFIED:20251028T134024Z
UID:21176-1761609600-1761695999@www.thexradio.com
SUMMARY:Tuesday's Schedule
DESCRIPTION:HIGH SCHOOL \nSoccer \nEffingham Sectional \nMatch 1 — Effingham vs. Carlinville\, 5 p.m. \nMatch 2 — Rochester vs. Teutopolis\, 7 p.m. \nVolleyball \nClass 1A Windsor/Stewardson-Strasburg Regional \nMatch 3 – Windsor/Stewardson-Strasburg vs. Bethany Okaw Valley\, 6 p.m. \nMatch 4 – Martinsville vs. Tuscola\, 7 p.m. \nClass 1A Casey-Westfield Regional \nMatch 3 – Casey-Westfield vs. Neoga\, 6 p.m. \nMatch 4 – Lawrenceville vs. Villa Grove\, 7 p.m. \nClass 1A St. Elmo/Brownstown Regional \nMatch 3 – St. Elmo/Brownstown vs. Patoka Co-op\, 6 p.m. \nMatch 4 – Altamont vs. Cowden-Herrick/Beecher City\, 7 p.m. \nClass1A Nokomis Regional \nMatch 2 — Carlyle vs. Dieterich\, 6 p.m. \nMatch 3 — Raymond Lincolnwood Co-op vs. North Clay/Clay City\, 7 p.m. \nClass 2A Effingham Regional \nMatch 2 – Pinckneyville vs. Teutopolis\, 6 p.m. \nMatch 3 — Effingham vs. Effingham St. Anthony\, 7 p.m. \nClass 2A McLeansboro Hamilton Co. Regional \nMatch 2 – Carmi-White County vs. Richland County\, Olney\, 6:30 p.m. \nMatch 3 – Newton vs. McLeansboro Hamilton County\, 7:30 p.m. \nJUNIOR HIGH SCHOOL \nGirls Basketball \nNational Trail Conference Eighth-Grade Tournament \nAt Beecher City \nGame 1 — Cumberland vs. Brownstown/St. Elmo\, 5:30 p.m. \nGame 2 — Windsor/Stewardson-Strasburg vs. Altamont\, 6:45 p.m. \nGame 3 — South Central vs. Effingham Sacred Heart\, 8 p.m. \nParis Crestwood at Effingham\, 6 p.m. \nFlora at St. Anthony\, 6 p.m. \nOlney\, Richland County at Teutopolis\, 6 p.m. \nMAJOR LEAGUE BASEBALL \nWorld Series \nGame 4 — Toronto at Los Angeles Dodgers\, 7 p.m.
URL:https://www.thexradio.com/news/calendar/21176-tuesdays-schedule-33/
CATEGORIES:Local Sports Calendar
END:VEVENT
END:VCALENDAR