BEGIN:VCALENDAR
VERSION:2.0
PRODID:-//Effingham&#039;s News and Sports Leader, 979XFM and KJ Country 102.3 - ECPv6.15.20//NONSGML v1.0//EN
CALSCALE:GREGORIAN
METHOD:PUBLISH
X-WR-CALNAME:Effingham&#039;s News and Sports Leader, 979XFM and KJ Country 102.3
X-ORIGINAL-URL:https://www.thexradio.com/news
X-WR-CALDESC:Events for Effingham&#039;s News and Sports Leader, 979XFM and KJ Country 102.3
REFRESH-INTERVAL;VALUE=DURATION:PT1H
X-Robots-Tag:noindex
X-PUBLISHED-TTL:PT1H
BEGIN:VTIMEZONE
TZID:America/Chicago
BEGIN:DAYLIGHT
TZOFFSETFROM:-0600
TZOFFSETTO:-0500
TZNAME:CDT
DTSTART:20240310T080000
END:DAYLIGHT
BEGIN:STANDARD
TZOFFSETFROM:-0500
TZOFFSETTO:-0600
TZNAME:CST
DTSTART:20241103T070000
END:STANDARD
BEGIN:DAYLIGHT
TZOFFSETFROM:-0600
TZOFFSETTO:-0500
TZNAME:CDT
DTSTART:20250309T080000
END:DAYLIGHT
BEGIN:STANDARD
TZOFFSETFROM:-0500
TZOFFSETTO:-0600
TZNAME:CST
DTSTART:20251102T070000
END:STANDARD
BEGIN:DAYLIGHT
TZOFFSETFROM:-0600
TZOFFSETTO:-0500
TZNAME:CDT
DTSTART:20260308T080000
END:DAYLIGHT
BEGIN:STANDARD
TZOFFSETFROM:-0500
TZOFFSETTO:-0600
TZNAME:CST
DTSTART:20261101T070000
END:STANDARD
END:VTIMEZONE
BEGIN:VEVENT
DTSTART;VALUE=DATE:20251027
DTEND;VALUE=DATE:20251028
DTSTAMP:20260425T175809
CREATED:20251021T170816Z
LAST-MODIFIED:20251021T185559Z
UID:21174-1761523200-1761609599@www.thexradio.com
SUMMARY:Monday's Schedule
DESCRIPTION:HIGH SCHOOL \nVolleyball \nClass 1A Windsor/Stewardson-Strasburg Regional \nMatch 1 – Oblong vs. Red Hill (Bridgeport)\, 6 p.m. \nMatch 2 – Cumberland vs. Hutsonville Co-op\, 7 p.m. \nClass 1A St. Elmo/Brownstown Regional \nMatch 1 – Okawville vs. Sandoval\, 6 p.m. \nMatch 2 – South Central vs. Mulberry Grove\, 7 p.m. \nClass 1A Casey-Westfield Regional \nMatch 1 – Arthur-Lovington/Atwood-Hammond vs. Arcola\, 6 p.m. \nMatch 2 – Chrisman vs. Kansas Co-op\, 7 p.m. \nClass 1A Nokomis Regional \nMatch 1 – Centralia Christ Our Rock Lutheran vs. Ramsey Co-op\, 6 p.m. \nClass 2A Effingham Regional \nMatch 1 – Teutopolis vs. Vandalia\, 6 p.m. \nClass 2A McLeansboro Hamilton Co. Regional \nMatch 1—Olney\, Richland County vs. Flora\, 6:30 p.m. \nJUNIOR VARSITY/FROSH/SOPH \nFootball \nCentralia at Effingham\, 6 p.m. \nJUNIOR HIGH SCHOOL \nGirls Basketball \nAltamont at Effingham Sacred Heart\, 6 p.m. \nNorth Clay at Brownstown/St. Elmo\, 6:15 p.m. \nPana Sacred Heart at Neoga\, 6 p.m. \nMAJOR LEAGUE BASEBALL \nWorld Series \nGame 3 — Toronto at Los Angeles Dodgers\, 7 p.m.
URL:https://www.thexradio.com/news/calendar/21174-mondays-schedule-32/
CATEGORIES:Local Sports Calendar
END:VEVENT
END:VCALENDAR