BEGIN:VCALENDAR
VERSION:2.0
PRODID:-//Effingham&#039;s News and Sports Leader, 979XFM and KJ Country 102.3 - ECPv6.15.20//NONSGML v1.0//EN
CALSCALE:GREGORIAN
METHOD:PUBLISH
X-ORIGINAL-URL:https://www.thexradio.com/news
X-WR-CALDESC:Events for Effingham&#039;s News and Sports Leader, 979XFM and KJ Country 102.3
REFRESH-INTERVAL;VALUE=DURATION:PT1H
X-Robots-Tag:noindex
X-PUBLISHED-TTL:PT1H
BEGIN:VTIMEZONE
TZID:America/Chicago
BEGIN:DAYLIGHT
TZOFFSETFROM:-0600
TZOFFSETTO:-0500
TZNAME:CDT
DTSTART:20240310T080000
END:DAYLIGHT
BEGIN:STANDARD
TZOFFSETFROM:-0500
TZOFFSETTO:-0600
TZNAME:CST
DTSTART:20241103T070000
END:STANDARD
BEGIN:DAYLIGHT
TZOFFSETFROM:-0600
TZOFFSETTO:-0500
TZNAME:CDT
DTSTART:20250309T080000
END:DAYLIGHT
BEGIN:STANDARD
TZOFFSETFROM:-0500
TZOFFSETTO:-0600
TZNAME:CST
DTSTART:20251102T070000
END:STANDARD
BEGIN:DAYLIGHT
TZOFFSETFROM:-0600
TZOFFSETTO:-0500
TZNAME:CDT
DTSTART:20260308T080000
END:DAYLIGHT
BEGIN:STANDARD
TZOFFSETFROM:-0500
TZOFFSETTO:-0600
TZNAME:CST
DTSTART:20261101T070000
END:STANDARD
END:VTIMEZONE
BEGIN:VEVENT
DTSTART;VALUE=DATE:20251024
DTEND;VALUE=DATE:20251025
DTSTAMP:20260425T191303
CREATED:20251016T194830Z
LAST-MODIFIED:20251024T113200Z
UID:20774-1761264000-1761350399@www.thexradio.com
SUMMARY:Friday's Schedule
DESCRIPTION:HIGH SCHOOL \nFootball \nEffingham at Centralia\, 7 p.m. (LISTEN ON 979XFM) \nMarshall at Newton\, 7 p.m. \nCerro Gordo Bement forfeited to Cumberland \nSoccer \nAltamont Regional \nMatch 5 – Newton vs. Teutopolis\, 5 p.m. (championship) \nGirls Tennis \nState \nSingles — Avery Probst (Teutopolis ) \nDoubles — Ellie Link-Mia Kinkelaar (St. Anthony)\, Liv Hoene-Nora Trupiano (St. Anthony)\, Anna Probst-Abbie Lee (Teutopolis)\, Adi Davidson-Allie Ruholl (Teutopolis) \nJUNIOR HIGH SCHOOL \nGirls Basketball \nNational Trail Conference Seventh-Grade Tournament \nAt Brownstown \nGame 9 — Altamont vs. Neoga\, 6 p.m. \nGame 10 — Cumberland vs. Sigel St. Michael\, 7:15 p.m. \nLEIC Tournament at Palestine/Hutsonville\, TBA \nMAJOR LEAGUE BASEBALL \nWorld Series \nGame 1 — Los Angeles Dodgers at Toronto\, 7 p.m.
URL:https://www.thexradio.com/news/calendar/20774-fridays-schedule-33/
CATEGORIES:Local Sports Calendar
END:VEVENT
END:VCALENDAR