BEGIN:VCALENDAR
VERSION:2.0
PRODID:-//Effingham&#039;s News and Sports Leader, 979XFM and KJ Country 102.3 - ECPv6.15.20//NONSGML v1.0//EN
CALSCALE:GREGORIAN
METHOD:PUBLISH
X-ORIGINAL-URL:https://www.thexradio.com/news
X-WR-CALDESC:Events for Effingham&#039;s News and Sports Leader, 979XFM and KJ Country 102.3
REFRESH-INTERVAL;VALUE=DURATION:PT1H
X-Robots-Tag:noindex
X-PUBLISHED-TTL:PT1H
BEGIN:VTIMEZONE
TZID:America/Chicago
BEGIN:DAYLIGHT
TZOFFSETFROM:-0600
TZOFFSETTO:-0500
TZNAME:CDT
DTSTART:20240310T080000
END:DAYLIGHT
BEGIN:STANDARD
TZOFFSETFROM:-0500
TZOFFSETTO:-0600
TZNAME:CST
DTSTART:20241103T070000
END:STANDARD
BEGIN:DAYLIGHT
TZOFFSETFROM:-0600
TZOFFSETTO:-0500
TZNAME:CDT
DTSTART:20250309T080000
END:DAYLIGHT
BEGIN:STANDARD
TZOFFSETFROM:-0500
TZOFFSETTO:-0600
TZNAME:CST
DTSTART:20251102T070000
END:STANDARD
BEGIN:DAYLIGHT
TZOFFSETFROM:-0600
TZOFFSETTO:-0500
TZNAME:CDT
DTSTART:20260308T080000
END:DAYLIGHT
BEGIN:STANDARD
TZOFFSETFROM:-0500
TZOFFSETTO:-0600
TZNAME:CST
DTSTART:20261101T070000
END:STANDARD
END:VTIMEZONE
BEGIN:VEVENT
DTSTART;VALUE=DATE:20251022
DTEND;VALUE=DATE:20251023
DTSTAMP:20260425T191301
CREATED:20251016T194621Z
LAST-MODIFIED:20251022T110823Z
UID:20770-1761091200-1761177599@www.thexradio.com
SUMMARY:Wednesday's Schedule
DESCRIPTION:HIGH SCHOOL \nSoccer \nStaunton Regional \nMatch 2 – Effingham vs. Robinson\, 4 p.m. \nMatch 3 – Staunton Co-op vs. Greenville\, 6 p.m. \nJUNIOR HIGH SCHOOL \nGirls Basketball \nNational Trail Conference Seventh-Grade Tournament \nAt Brownstown \nGame 4 — Cowden-Herrick/Beecher City vs. Dieterich\, 5:30 p.m. \nGame 5 — Cumberland vs. Altamont\, 6:45 p.m. \nGame 6 — Sigel St. Michael vs. Neoga\, 8 p.m.
URL:https://www.thexradio.com/news/calendar/20770-wednesdays-schedule-33/
CATEGORIES:Local Sports Calendar
END:VEVENT
END:VCALENDAR