BEGIN:VCALENDAR
VERSION:2.0
PRODID:-//Effingham&#039;s News and Sports Leader, 979XFM and KJ Country 102.3 - ECPv6.15.20//NONSGML v1.0//EN
CALSCALE:GREGORIAN
METHOD:PUBLISH
X-ORIGINAL-URL:https://www.thexradio.com/news
X-WR-CALDESC:Events for Effingham&#039;s News and Sports Leader, 979XFM and KJ Country 102.3
REFRESH-INTERVAL;VALUE=DURATION:PT1H
X-Robots-Tag:noindex
X-PUBLISHED-TTL:PT1H
BEGIN:VTIMEZONE
TZID:America/Chicago
BEGIN:DAYLIGHT
TZOFFSETFROM:-0600
TZOFFSETTO:-0500
TZNAME:CDT
DTSTART:20240310T080000
END:DAYLIGHT
BEGIN:STANDARD
TZOFFSETFROM:-0500
TZOFFSETTO:-0600
TZNAME:CST
DTSTART:20241103T070000
END:STANDARD
BEGIN:DAYLIGHT
TZOFFSETFROM:-0600
TZOFFSETTO:-0500
TZNAME:CDT
DTSTART:20250309T080000
END:DAYLIGHT
BEGIN:STANDARD
TZOFFSETFROM:-0500
TZOFFSETTO:-0600
TZNAME:CST
DTSTART:20251102T070000
END:STANDARD
BEGIN:DAYLIGHT
TZOFFSETFROM:-0600
TZOFFSETTO:-0500
TZNAME:CDT
DTSTART:20260308T080000
END:DAYLIGHT
BEGIN:STANDARD
TZOFFSETFROM:-0500
TZOFFSETTO:-0600
TZNAME:CST
DTSTART:20261101T070000
END:STANDARD
END:VTIMEZONE
BEGIN:VEVENT
DTSTART;VALUE=DATE:20251020
DTEND;VALUE=DATE:20251021
DTSTAMP:20260425T191218
CREATED:20251016T194331Z
LAST-MODIFIED:20251020T153336Z
UID:20764-1760918400-1761004799@www.thexradio.com
SUMMARY:Monday's Schedule
DESCRIPTION:HIGH SCHOOL \nSoccer \nAltamont Regional \nMatch 3 – Newton vs. Altamont\, 4:30 p.m. \nMatch 4 – Teutopolis vs. Pana\, 6:30 p.m. \nVolleyball \nShelbyville at Effingham\, 5 p.m. \nSt. Anthony at Richland County\, 6 p.m. \nAltamont at Centralia Christ Our Rock Lutheran\, 6 p.m. \nTeutopolis at Cumberland\, 6 p.m. (FRESHMAN MATCH CANCELED) \nParis at Neoga\, 6 p.m. \nNewton at Windsor/Stewardson-Strasburg\, 5 p.m. \nEgyptian-Illini Conference Tournament \nAt St. Elmo \nMatch 1 – St. Elmo/Brownstown vs. Martinsville\, 5:30 p.m. \nMatch 2 – Mulberry Grove vs. Martinsville\, 6:30 p.m. \nMatch 3 – St. Elmo/Brownstown vs. Mulberry Grove\, 7:30 p.m. \nJUNIOR VARSITY/FROSH/SOPH \nBaseball \nCumberland at Nokomis HAS BEEN CANCELED \nFootball \nMattoon at Effingham\, 6 p.m. \nLawrenceville at Newton\, 6:15 p.m. \nVolleyball \nRobinson at Dieterich\, 5 p.m. \nJUNIOR HIGH SCHOOL \nGirls Basketball \nEffingham at Paris Mayo\, 6 p.m. \nSt. Anthony at Dieterich\, 6 p.m. \nBrownstown/St. Elmo at North Clay\, 6:15 p.m. \nMartinsville at Jasper County\, 6 p.m. \nOkaw Valley at Neoga\, 6 p.m. \nSigel St. Michael at Teutopolis\, 6 p.m. \nMAJOR LEAGUE BASEBALL \nPlayoffs \nSeattle at Toronto\, 7:08 p.m.
URL:https://www.thexradio.com/news/calendar/20764-mondays-schedule-31/
CATEGORIES:Local Sports Calendar
END:VEVENT
END:VCALENDAR