BEGIN:VCALENDAR
VERSION:2.0
PRODID:-//Effingham&#039;s News and Sports Leader, 979XFM and KJ Country 102.3 - ECPv6.15.20//NONSGML v1.0//EN
CALSCALE:GREGORIAN
METHOD:PUBLISH
X-WR-CALNAME:Effingham&#039;s News and Sports Leader, 979XFM and KJ Country 102.3
X-ORIGINAL-URL:https://www.thexradio.com/news
X-WR-CALDESC:Events for Effingham&#039;s News and Sports Leader, 979XFM and KJ Country 102.3
REFRESH-INTERVAL;VALUE=DURATION:PT1H
X-Robots-Tag:noindex
X-PUBLISHED-TTL:PT1H
BEGIN:VTIMEZONE
TZID:America/Chicago
BEGIN:DAYLIGHT
TZOFFSETFROM:-0600
TZOFFSETTO:-0500
TZNAME:CDT
DTSTART:20240310T080000
END:DAYLIGHT
BEGIN:STANDARD
TZOFFSETFROM:-0500
TZOFFSETTO:-0600
TZNAME:CST
DTSTART:20241103T070000
END:STANDARD
BEGIN:DAYLIGHT
TZOFFSETFROM:-0600
TZOFFSETTO:-0500
TZNAME:CDT
DTSTART:20250309T080000
END:DAYLIGHT
BEGIN:STANDARD
TZOFFSETFROM:-0500
TZOFFSETTO:-0600
TZNAME:CST
DTSTART:20251102T070000
END:STANDARD
BEGIN:DAYLIGHT
TZOFFSETFROM:-0600
TZOFFSETTO:-0500
TZNAME:CDT
DTSTART:20260308T080000
END:DAYLIGHT
BEGIN:STANDARD
TZOFFSETFROM:-0500
TZOFFSETTO:-0600
TZNAME:CST
DTSTART:20261101T070000
END:STANDARD
END:VTIMEZONE
BEGIN:VEVENT
DTSTART;VALUE=DATE:20251018
DTEND;VALUE=DATE:20251019
DTSTAMP:20260425T191132
CREATED:20251009T193150Z
LAST-MODIFIED:20251017T153730Z
UID:20217-1760745600-1760831999@www.thexradio.com
SUMMARY:Saturday's Schedule
DESCRIPTION:HIGH SCHOOL \nCross Country \nSt. Anthony\, Effingham\, Cowden-Herrick/Beecher City\, Cumberland\, Dieterich\, Neoga\, North Clay\, Teutopolis at Charleston Invitational\, 9 a.m. \nSoccer \nAltamont Regional \nMatch 1 — Vandalia at Pana Co-op\, 2 p.m. \nGirls Tennis \nEffingham Sectional \nEffingham\, Effingham St. Anthony\, Newton\, Teutopolis\, Casey-Westfield\, Charleston\, Mattoon\, Olney/Richland County\, Robinson\, Shelbyville \nVolleyball \nNational Trail Conference Tournament \nAt St. Anthony \nMatch 13 — Winner Match 7 vs. Winner Match 9\, 11 a.m. (consolation championship) \nMatch 14 — Loser Match 9 vs. Loser Match 11\, noon (third place) \nMatch 15 — Winner Match 10 vs. Winner Match 12\, 1 p.m. (championship) \nEffingham\, Newton at Edwards County (Albion) Tournament\, TBA \nTeutopolis at Morgan Buerkett Tournament\, 8 a.m. \nJUNIOR VARSITY/FROSH/SOPH \nVolleyball \nEffingham at Maroa-Forsyth JV Tournament\, TBA \nJUNIOR HIGH SCHOOL \nCross Country \nState Meets \nAt Maxwell Park\, Normal \nClass 1A Girls — 9:15 a.m. \nClass 1A Boys — 10 a.m. \nClass 2A Girls — 10:45 a.m. \nClass 2A Boys — 11:30 a.m. \nCOLLEGE FOOTBALL \nEastern Illinois University at Southeast Missouri\, 2 p.m. \nNASCAR \nUnited Rentals 250\, 1:30 p.m.
URL:https://www.thexradio.com/news/calendar/20217-saturdays-schedule-31/
CATEGORIES:Local Sports Calendar
END:VEVENT
END:VCALENDAR