BEGIN:VCALENDAR
VERSION:2.0
PRODID:-//Effingham&#039;s News and Sports Leader, 979XFM and KJ Country 102.3 - ECPv6.15.20//NONSGML v1.0//EN
CALSCALE:GREGORIAN
METHOD:PUBLISH
X-ORIGINAL-URL:https://www.thexradio.com/news
X-WR-CALDESC:Events for Effingham&#039;s News and Sports Leader, 979XFM and KJ Country 102.3
REFRESH-INTERVAL;VALUE=DURATION:PT1H
X-Robots-Tag:noindex
X-PUBLISHED-TTL:PT1H
BEGIN:VTIMEZONE
TZID:America/Chicago
BEGIN:DAYLIGHT
TZOFFSETFROM:-0600
TZOFFSETTO:-0500
TZNAME:CDT
DTSTART:20240310T080000
END:DAYLIGHT
BEGIN:STANDARD
TZOFFSETFROM:-0500
TZOFFSETTO:-0600
TZNAME:CST
DTSTART:20241103T070000
END:STANDARD
BEGIN:DAYLIGHT
TZOFFSETFROM:-0600
TZOFFSETTO:-0500
TZNAME:CDT
DTSTART:20250309T080000
END:DAYLIGHT
BEGIN:STANDARD
TZOFFSETFROM:-0500
TZOFFSETTO:-0600
TZNAME:CST
DTSTART:20251102T070000
END:STANDARD
BEGIN:DAYLIGHT
TZOFFSETFROM:-0600
TZOFFSETTO:-0500
TZNAME:CDT
DTSTART:20260308T080000
END:DAYLIGHT
BEGIN:STANDARD
TZOFFSETFROM:-0500
TZOFFSETTO:-0600
TZNAME:CST
DTSTART:20261101T070000
END:STANDARD
END:VTIMEZONE
BEGIN:VEVENT
DTSTART;VALUE=DATE:20251017
DTEND;VALUE=DATE:20251018
DTSTAMP:20260425T191138
CREATED:20251009T192957Z
LAST-MODIFIED:20251017T115329Z
UID:20215-1760659200-1760745599@www.thexradio.com
SUMMARY:Friday's Schedule
DESCRIPTION:HIGH SCHOOL \nFootball \nEffingham at Mattoon\, 7 p.m. (LISTEN ON 979XFM) \nCumberland at Nokomis\, 7 p.m. \nNewton at Lawrenceville\, 7 p.m. \nSoccer \nAltamont Regional \nMatch 2 – Mount Carmel at Altamont\, 6 p.m. \nStaunton Regional \nMatch 1 – Effingham St. Anthony at Robinson\, 4:30 p.m. \nGirls Tennis \nEffingham Sectional \nEffingham\, Effingham  St. Anthony\, Newton\, Teutopolis\, Casey-Westfield\, Charleston\, Mattoon\, Olney/Richland County\, Robinson\, Shelbyville\, TBA \nVolleyball \nNational Trail Conference Tournament \nAt St. Anthony \nMatch 7 — Cowden-Herrick/Beecher City vs. South Central\, 5 p.m. \nMatch 8 — Windsor/Stewardson-Strasburg vs. Neoga\, 5 p.m. \nMatch 9 — Cumberland vs. Loser Match 8\, 6 p.m. \nMatch 10 — St. Anthony vs. Altamont\, 6 p.m. \nMatch 11 — Loser Match 7 vs. Loser Match 9\, 7 p.m. \nMatch 12 — St. Elmo/Brownstown vs. Winner Match 8\, 7 p.m. \nJUNIOR HIGH SCHOOL \nGirls Basketball \nAltamont at Brownstown/St. Elmo\, 6:15 p.m. \nCowden-Herrick/Beecher City at North Clay\, 6 p.m. \nTeutopolis at Jasper County\, 6 p.m.
URL:https://www.thexradio.com/news/calendar/20215-fridays-schedule-32/
CATEGORIES:Local Sports Calendar
END:VEVENT
END:VCALENDAR