BEGIN:VCALENDAR
VERSION:2.0
PRODID:-//Effingham&#039;s News and Sports Leader, 979XFM and KJ Country 102.3 - ECPv6.15.20//NONSGML v1.0//EN
CALSCALE:GREGORIAN
METHOD:PUBLISH
X-WR-CALNAME:Effingham&#039;s News and Sports Leader, 979XFM and KJ Country 102.3
X-ORIGINAL-URL:https://www.thexradio.com/news
X-WR-CALDESC:Events for Effingham&#039;s News and Sports Leader, 979XFM and KJ Country 102.3
REFRESH-INTERVAL;VALUE=DURATION:PT1H
X-Robots-Tag:noindex
X-PUBLISHED-TTL:PT1H
BEGIN:VTIMEZONE
TZID:America/Chicago
BEGIN:DAYLIGHT
TZOFFSETFROM:-0600
TZOFFSETTO:-0500
TZNAME:CDT
DTSTART:20240310T080000
END:DAYLIGHT
BEGIN:STANDARD
TZOFFSETFROM:-0500
TZOFFSETTO:-0600
TZNAME:CST
DTSTART:20241103T070000
END:STANDARD
BEGIN:DAYLIGHT
TZOFFSETFROM:-0600
TZOFFSETTO:-0500
TZNAME:CDT
DTSTART:20250309T080000
END:DAYLIGHT
BEGIN:STANDARD
TZOFFSETFROM:-0500
TZOFFSETTO:-0600
TZNAME:CST
DTSTART:20251102T070000
END:STANDARD
BEGIN:DAYLIGHT
TZOFFSETFROM:-0600
TZOFFSETTO:-0500
TZNAME:CDT
DTSTART:20260308T080000
END:DAYLIGHT
BEGIN:STANDARD
TZOFFSETFROM:-0500
TZOFFSETTO:-0600
TZNAME:CST
DTSTART:20261101T070000
END:STANDARD
END:VTIMEZONE
BEGIN:VEVENT
DTSTART;VALUE=DATE:20251013
DTEND;VALUE=DATE:20251014
DTSTAMP:20260425T191139
CREATED:20251009T190545Z
LAST-MODIFIED:20251009T190545Z
UID:20202-1760313600-1760399999@www.thexradio.com
SUMMARY:Monday's Schedule
DESCRIPTION:HIGH SCHOOL \nGirls Tennis \nChampaign St. Thomas More at Teutopolis\, 4 p.m. \nVolleyball \nVandalia at St. Anthony\, 6 p.m. \nCumberland at Casey-Westfield\, 6 p.m. \nNewton at Teutopolis\, 5 p.m. \nJUNIOR VARSITY/FROSH/SOPH \nFootball \nEffingham at Mount Zion\, 6 p.m. \nSullivan Okaw Valley at Cumberland\, 6 p.m. \nNewton at Robinson\, 6:15 p.m. \nGirls Tennis \nTeutopolis at Paris\, 4:30 p.m. \nMAJOR LEAGUE BASEBALL \nLeague Series\, TBA
URL:https://www.thexradio.com/news/calendar/20202-mondays-schedule-30/
CATEGORIES:Local Sports Calendar
END:VEVENT
END:VCALENDAR