BEGIN:VCALENDAR
VERSION:2.0
PRODID:-//Effingham&#039;s News and Sports Leader, 979XFM and KJ Country 102.3 - ECPv6.15.20//NONSGML v1.0//EN
CALSCALE:GREGORIAN
METHOD:PUBLISH
X-WR-CALNAME:Effingham&#039;s News and Sports Leader, 979XFM and KJ Country 102.3
X-ORIGINAL-URL:https://www.thexradio.com/news
X-WR-CALDESC:Events for Effingham&#039;s News and Sports Leader, 979XFM and KJ Country 102.3
REFRESH-INTERVAL;VALUE=DURATION:PT1H
X-Robots-Tag:noindex
X-PUBLISHED-TTL:PT1H
BEGIN:VTIMEZONE
TZID:America/Chicago
BEGIN:DAYLIGHT
TZOFFSETFROM:-0600
TZOFFSETTO:-0500
TZNAME:CDT
DTSTART:20240310T080000
END:DAYLIGHT
BEGIN:STANDARD
TZOFFSETFROM:-0500
TZOFFSETTO:-0600
TZNAME:CST
DTSTART:20241103T070000
END:STANDARD
BEGIN:DAYLIGHT
TZOFFSETFROM:-0600
TZOFFSETTO:-0500
TZNAME:CDT
DTSTART:20250309T080000
END:DAYLIGHT
BEGIN:STANDARD
TZOFFSETFROM:-0500
TZOFFSETTO:-0600
TZNAME:CST
DTSTART:20251102T070000
END:STANDARD
BEGIN:DAYLIGHT
TZOFFSETFROM:-0600
TZOFFSETTO:-0500
TZNAME:CDT
DTSTART:20260308T080000
END:DAYLIGHT
BEGIN:STANDARD
TZOFFSETFROM:-0500
TZOFFSETTO:-0600
TZNAME:CST
DTSTART:20261101T070000
END:STANDARD
END:VTIMEZONE
BEGIN:VEVENT
DTSTART;VALUE=DATE:20251010
DTEND;VALUE=DATE:20251011
DTSTAMP:20260425T191106
CREATED:20251002T180604Z
LAST-MODIFIED:20251010T121130Z
UID:19762-1760054400-1760140799@www.thexradio.com
SUMMARY:Friday's Schedule
DESCRIPTION:HIGH SCHOOL \nFootball \nMount Zion at Effingham\, 7 p.m. (LISTEN ON 979XFM) \nSullivan Okaw Valley at Cumberland\, 7 p.m. \nRobinson at Newton\, 7 p.m. \nBoys Golf \nClass 1A State Tournament \nAt Vista Golf Course\, Bloomington \nTeutopolis (Coen Pennington\, Isaac Weber\, Kade Pennington\, Owen Kremer\, Matthew Habing\, Lane Ohnesoge) \nClass 2A State Tournament \nAt Weibring Golf Club\, Normal \nSt. Anthony (Logan Gowin\, Maddux Clark\, Jameson McAllaster\, Alec Hakman\, Drake Brown\, Briggs Whitley)\, Effingham (Jack Swingler) \nGirls Golf \nState Tournament \nAt Red Tail Run Golf Course\, Decatur \nSt. Anthony (Brooklyn Phillips\, Gianna Frisbie\, Tesa Ludwig\, Adria Moberly\, Lucy Bierman\, Tenley Sams)\, Teutopolis (Brileigh Bloemer\, Molly Habing) \nGirls Tennis \nNewton at Robinson\, 9 a.m. \nJUNIOR HIGH SCHOOL \nCross Country \nCLASS 1A \nSectional G \nAt Winter Park\, Danville \nFriday\, October 10\, 3:30 PM \nCowden-Herrick/Beecher City\, Dieterich\, Effingham St. ANthony\, North Clay\, Neoga (girls only)\, Sigel St. Michael\, Chrisman Scottland\, Danville Schlarman\, Findlay Okaw Valley\, Georgetown La Salette (boys only)\, Homer Heritage\, Mattoon St. John’s\, Oblong\, Potomac\, Rossville-Alvin \nGirls Basketball \nBrownstown/St. Elmo at Eighth-grade Lady Falcon Tournament at South Central\, TBA \nMAJOR LEAGUE BASEBALL \nDetroit at Seattle\, 7:08 p.m. \nALDS — Game 5\, series tied 2-2
URL:https://www.thexradio.com/news/calendar/19762-fridays-schedule-31/
CATEGORIES:Local Sports Calendar
END:VEVENT
BEGIN:VEVENT
DTSTART;VALUE=DATE:20251010
DTEND;VALUE=DATE:20251011
DTSTAMP:20260425T191106
CREATED:20251009T192417Z
LAST-MODIFIED:20251016T113131Z
UID:20210-1760054400-1760140799@www.thexradio.com
SUMMARY:Thursday's Schedule
DESCRIPTION:HIGH SCHOOL \nVolleyball \nNational Trail Conference Tournament\, TBA \nEffingham at Mahomet-Seymour\, 5 p.m. \nRichland County\, Olney at Newton\, 5 p.m. \nFRESHMEN \nFOOTBALL \nEffingham at Vandalia\, 6 p.m.
URL:https://www.thexradio.com/news/calendar/20210-thursdays-schedule-30/
CATEGORIES:Local Sports Calendar
END:VEVENT
END:VCALENDAR