BEGIN:VCALENDAR
VERSION:2.0
PRODID:-//Effingham&#039;s News and Sports Leader, 979XFM and KJ Country 102.3 - ECPv6.15.20//NONSGML v1.0//EN
CALSCALE:GREGORIAN
METHOD:PUBLISH
X-ORIGINAL-URL:https://www.thexradio.com/news
X-WR-CALDESC:Events for Effingham&#039;s News and Sports Leader, 979XFM and KJ Country 102.3
REFRESH-INTERVAL;VALUE=DURATION:PT1H
X-Robots-Tag:noindex
X-PUBLISHED-TTL:PT1H
BEGIN:VTIMEZONE
TZID:America/Chicago
BEGIN:DAYLIGHT
TZOFFSETFROM:-0600
TZOFFSETTO:-0500
TZNAME:CDT
DTSTART:20240310T080000
END:DAYLIGHT
BEGIN:STANDARD
TZOFFSETFROM:-0500
TZOFFSETTO:-0600
TZNAME:CST
DTSTART:20241103T070000
END:STANDARD
BEGIN:DAYLIGHT
TZOFFSETFROM:-0600
TZOFFSETTO:-0500
TZNAME:CDT
DTSTART:20250309T080000
END:DAYLIGHT
BEGIN:STANDARD
TZOFFSETFROM:-0500
TZOFFSETTO:-0600
TZNAME:CST
DTSTART:20251102T070000
END:STANDARD
BEGIN:DAYLIGHT
TZOFFSETFROM:-0600
TZOFFSETTO:-0500
TZNAME:CDT
DTSTART:20260308T080000
END:DAYLIGHT
BEGIN:STANDARD
TZOFFSETFROM:-0500
TZOFFSETTO:-0600
TZNAME:CST
DTSTART:20261101T070000
END:STANDARD
END:VTIMEZONE
BEGIN:VEVENT
DTSTART;VALUE=DATE:20251006
DTEND;VALUE=DATE:20251007
DTSTAMP:20260425T191219
CREATED:20251002T175655Z
LAST-MODIFIED:20251006T151754Z
UID:19751-1759708800-1759795199@www.thexradio.com
SUMMARY:Monday's Schedule
DESCRIPTION:HIGH SCHOOL \nBaseball \nNational Trail Conference Tournament \nGame 2 — South Central at St. Anthony\, 4 p.m. \nGame 3 — Windsor/Stewardson-Strasburg at Dieterich\, 4 p.m. \nGame 4 — Brownstown/St. Elmo at North Clay\, 4 p.m. \nGame 5 — Neoga at Altamont\, 4 p.m. \nCross Country \nDieterich\, North Clay\, Teutopolis\, Flora at Altamont\, 4:30 p.m. \nBoys Golf \nClass 1A Teutopolis Sectional \nEffingham Country Club \nEffingham St. Anthony team\, Effingham team\, Teutopolis team\, Michael Kennedy\, Jack James\, Nolen Cleaver (Newton) \nClass 1A Jacksonville Routt Sectional \nWindsor/Stewardson-Strasburg’s Jacob Vonderheide \nGirls Golf \nMonticello Sectional \nEffingham St. Anthony team\, Teutopolis team\, Ella Tuman\, Makenna Mayhood\, Natalie Armstrong (Effingham)\, Peyton Lindley\, Haley Ochs (Newton)\, Kennedy Jones (North Clay) \nSoccer \nGreenville at Teutopolis\, 4:30 p.m. \nGirls Tennis \nTaylorville at Effingham\, 4:15 p.m. \nTeutopolis at Salem\, 4:30 p.m. \nVolleyball \nDieterich at St. Anthony\, 6 p.m. \nVandalia at Altamont\, 5 p.m. \nMartinsville at Cowden-Herrick/Beecher City\, 5 p.m. \nJUNIOR VARSITY/FROSH/SOPH \nFootball \nMahomet-Seymour at Effingham\, 6 p.m. \nCumberland at Sangamon Valley\, 6 p.m. \nParis at Newton\, 6:15 p.m. \nSoccer \nGreenville at Teutopolis\, 4:30 p.m. \nJUNIOR HIGH SCHOOL \nCross Country \nJasper County at LEIC Meet at Robinson\, 4:30 p.m. \nNorth Clay at Altamont Lutheran\, 4 p.m. \nGirls Basketball \nPana Sacred Heart at Effingham\, 6 p.m. \nTaylorville at St. Anthony\, 6 p.m. \nMattoon at Teutopolis\, 6 p.m. \nRamsey at Altamont\, 6 p.m. \nCumberland at Brownstown/St. Elmo\, 6:15 p.m. \nDieterich at Oblong\, 6 p.m. \nMattoon at Teutopolis\, 6 p.m. \nWindsor/Stewardson-Strasburg at Sigel St. Michael\, 6 p.m. \nMAJOR LEAGUE BASEBALL \nLos Angeles Dodgers at Philadelphia\, 5 p.m. \nNLDS — Game 2– Los Angeles Dodgers leads series 1-0 \nChicago Cubs at Milwaukee\, 8:08 p.m. \nNLDS — Game 2\, Milwaukee leads series 1-0
URL:https://www.thexradio.com/news/calendar/19751-mondays-schedule-29/
CATEGORIES:Local Sports Calendar
END:VEVENT
END:VCALENDAR