BEGIN:VCALENDAR
VERSION:2.0
PRODID:-//Effingham&#039;s News and Sports Leader, 979XFM and KJ Country 102.3 - ECPv6.15.20//NONSGML v1.0//EN
CALSCALE:GREGORIAN
METHOD:PUBLISH
X-ORIGINAL-URL:https://www.thexradio.com/news
X-WR-CALDESC:Events for Effingham&#039;s News and Sports Leader, 979XFM and KJ Country 102.3
REFRESH-INTERVAL;VALUE=DURATION:PT1H
X-Robots-Tag:noindex
X-PUBLISHED-TTL:PT1H
BEGIN:VTIMEZONE
TZID:America/Chicago
BEGIN:DAYLIGHT
TZOFFSETFROM:-0600
TZOFFSETTO:-0500
TZNAME:CDT
DTSTART:20240310T080000
END:DAYLIGHT
BEGIN:STANDARD
TZOFFSETFROM:-0500
TZOFFSETTO:-0600
TZNAME:CST
DTSTART:20241103T070000
END:STANDARD
BEGIN:DAYLIGHT
TZOFFSETFROM:-0600
TZOFFSETTO:-0500
TZNAME:CDT
DTSTART:20250309T080000
END:DAYLIGHT
BEGIN:STANDARD
TZOFFSETFROM:-0500
TZOFFSETTO:-0600
TZNAME:CST
DTSTART:20251102T070000
END:STANDARD
BEGIN:DAYLIGHT
TZOFFSETFROM:-0600
TZOFFSETTO:-0500
TZNAME:CDT
DTSTART:20260308T080000
END:DAYLIGHT
BEGIN:STANDARD
TZOFFSETFROM:-0500
TZOFFSETTO:-0600
TZNAME:CST
DTSTART:20261101T070000
END:STANDARD
END:VTIMEZONE
BEGIN:VEVENT
DTSTART;VALUE=DATE:20251004
DTEND;VALUE=DATE:20251005
DTSTAMP:20260425T191232
CREATED:20250917T175244Z
LAST-MODIFIED:20250930T132830Z
UID:18772-1759536000-1759622399@www.thexradio.com
SUMMARY:Saturday's Schedule
DESCRIPTION:HIGH SCHOOL \nBaseball \nWoodlawn at Altamont\, 10 a.m. \nTeutopolis at Centralia Christ Our Rock Lutheran\, 10 a.m. \nCross Country \nSt. Anthony\, Dieterich at Terre Haute South Vigo Night Race\, 6 p.m. \nMonticello at Cumberland\, 9 a.m. \nSoccer \nAltamont at St. Anthony\, 7 p.m. \nNewton at Mattoon Tournament\, TBA \nTeutopolis at Breese Mater Dei\, 10 a.m. \nGirls Tennis \nEffingham at Apollo Conference Tournament at Mahomet-Seymour\, 9 a.m. \nSt. Anthony at Bloomington Purple/Gold Invitational\, 8 a.m. \nVolleyball \nSt. Anthony at Mahomet-Seymour Invitational\, 9 a.m. \nSouth Central at St. Elmo/Brownstown\, 10 a.m. \nJUNIOR VARSITY/FROSH/SOPH \nBaseball \nWoodlawn at Altamont\, after varsity game \nSoccer \nTeutopolis at Breese Mater Dei\, 10 a.m. \nVolleyball \nEffingham\, St. Anthony\, Dieterich\, Newton at Teutopolis Freshman/Sophomore Tournament\, 9 a.m. \nCowden-Herrick/Beecher City\, North Clay at St. Elmo/Brownstown Freshman/Sophomore Tournament\, TBA \nJUNIOR HIGH SCHOOL \nGirls Basketball \nParis Crestwood at Neoga\, 10 a.m. \nCOLLEGE FOOTBALL \nTennessee State at Eastern Illinois University\, 2 p.m. \nPurdue at University of Illinois\, TBA \nMAJOR LEAGUE BASEBALL \nDivisional Series\, TBA \nNASCAR \nDrive for the Cure 250 at Charlotte Motor Speedway\, 3:30 p.m.
URL:https://www.thexradio.com/news/calendar/18772-saturdays-schedule-29/
CATEGORIES:Local Sports Calendar
END:VEVENT
END:VCALENDAR