BEGIN:VCALENDAR
VERSION:2.0
PRODID:-//Effingham&#039;s News and Sports Leader, 979XFM and KJ Country 102.3 - ECPv6.15.20//NONSGML v1.0//EN
CALSCALE:GREGORIAN
METHOD:PUBLISH
X-WR-CALNAME:Effingham&#039;s News and Sports Leader, 979XFM and KJ Country 102.3
X-ORIGINAL-URL:https://www.thexradio.com/news
X-WR-CALDESC:Events for Effingham&#039;s News and Sports Leader, 979XFM and KJ Country 102.3
REFRESH-INTERVAL;VALUE=DURATION:PT1H
X-Robots-Tag:noindex
X-PUBLISHED-TTL:PT1H
BEGIN:VTIMEZONE
TZID:America/Chicago
BEGIN:DAYLIGHT
TZOFFSETFROM:-0600
TZOFFSETTO:-0500
TZNAME:CDT
DTSTART:20240310T080000
END:DAYLIGHT
BEGIN:STANDARD
TZOFFSETFROM:-0500
TZOFFSETTO:-0600
TZNAME:CST
DTSTART:20241103T070000
END:STANDARD
BEGIN:DAYLIGHT
TZOFFSETFROM:-0600
TZOFFSETTO:-0500
TZNAME:CDT
DTSTART:20250309T080000
END:DAYLIGHT
BEGIN:STANDARD
TZOFFSETFROM:-0500
TZOFFSETTO:-0600
TZNAME:CST
DTSTART:20251102T070000
END:STANDARD
BEGIN:DAYLIGHT
TZOFFSETFROM:-0600
TZOFFSETTO:-0500
TZNAME:CDT
DTSTART:20260308T080000
END:DAYLIGHT
BEGIN:STANDARD
TZOFFSETFROM:-0500
TZOFFSETTO:-0600
TZNAME:CST
DTSTART:20261101T070000
END:STANDARD
END:VTIMEZONE
BEGIN:VEVENT
DTSTART;VALUE=DATE:20251003
DTEND;VALUE=DATE:20251004
DTSTAMP:20260425T191140
CREATED:20250917T175120Z
LAST-MODIFIED:20251002T124823Z
UID:18770-1759449600-1759535999@www.thexradio.com
SUMMARY:Friday's Schedule
DESCRIPTION:HIGH SCHOOL \nFootball \nEffingham at Mahomet-Seymour\, 7 p.m. (LISTEN ON 979XFM) \nCumberland at Sangamon Valley\, 7 p.m. \nNewton at Paris\, 7 p.m. \nBaseball \nNational Trail Conference Tournament \nGame 1 — Cowden-Herrick/Beecher City at South Central\, 4 p.m. \nSoccer \nMount Zion at Effingham\, 5:30 p.m. \nCentralia at Altamont\, 4 p.m. \nNewton at Mattoon Tournament\, TBA \nGirls Tennis \nEffingham at Apollo Conference Tournament at Mahomet-Seymour\, 1 p.m. \nSt. Anthony at Bloomington Purple/Gold Invitational\, 3 p.m. \nVolleyball \nSt. Elmo/Brownstown at North Clay\, 5 p.m. \nTeutopolis at Windsor/Stewardson-Strasburg\, 5 p.m. \nJUNIOR VARSITY/FROSH/SOPH \nSoccer \nCentralia at Altamont\, 4 p.m. \nVolleyball \nJUNIOR HIGH SCHOOL \nBaseball \nState\, TBA \nGirls Basketball \nAltamont at Windsor/Stewardson-Strasburg\, 6 p.m. \nDieterich at Teutopolis\, 6 p.m.
URL:https://www.thexradio.com/news/calendar/18770-fridays-schedule-30/
CATEGORIES:Local Sports Calendar
END:VEVENT
END:VCALENDAR