BEGIN:VCALENDAR
VERSION:2.0
PRODID:-//Effingham&#039;s News and Sports Leader, 979XFM and KJ Country 102.3 - ECPv6.15.20//NONSGML v1.0//EN
CALSCALE:GREGORIAN
METHOD:PUBLISH
X-ORIGINAL-URL:https://www.thexradio.com/news
X-WR-CALDESC:Events for Effingham&#039;s News and Sports Leader, 979XFM and KJ Country 102.3
REFRESH-INTERVAL;VALUE=DURATION:PT1H
X-Robots-Tag:noindex
X-PUBLISHED-TTL:PT1H
BEGIN:VTIMEZONE
TZID:America/Chicago
BEGIN:DAYLIGHT
TZOFFSETFROM:-0600
TZOFFSETTO:-0500
TZNAME:CDT
DTSTART:20240310T080000
END:DAYLIGHT
BEGIN:STANDARD
TZOFFSETFROM:-0500
TZOFFSETTO:-0600
TZNAME:CST
DTSTART:20241103T070000
END:STANDARD
BEGIN:DAYLIGHT
TZOFFSETFROM:-0600
TZOFFSETTO:-0500
TZNAME:CDT
DTSTART:20250309T080000
END:DAYLIGHT
BEGIN:STANDARD
TZOFFSETFROM:-0500
TZOFFSETTO:-0600
TZNAME:CST
DTSTART:20251102T070000
END:STANDARD
BEGIN:DAYLIGHT
TZOFFSETFROM:-0600
TZOFFSETTO:-0500
TZNAME:CDT
DTSTART:20260308T080000
END:DAYLIGHT
BEGIN:STANDARD
TZOFFSETFROM:-0500
TZOFFSETTO:-0600
TZNAME:CST
DTSTART:20261101T070000
END:STANDARD
END:VTIMEZONE
BEGIN:VEVENT
DTSTART;VALUE=DATE:20251002
DTEND;VALUE=DATE:20251003
DTSTAMP:20260425T191231
CREATED:20250917T175004Z
LAST-MODIFIED:20251002T123644Z
UID:18768-1759363200-1759449599@www.thexradio.com
SUMMARY:Thursday's Schedule
DESCRIPTION:HIGH SCHOOL \nBaseball \nTeutopolis at St. Anthony\, 4:30 p.m. (LISTEN ON KJ COUNTRY 102.3) \nCowden-Herrick/Beecher City at Neoga\, 4:30 p.m. \nWoodlawn at Dieterich\, 4:30 p.m. \nCentralia Christ Our Rock Lutheran at North Clay\, 4:30 p.m. \nCross Country \nSt. Anthony\, Effingham\, Altamont\, Cowden-Herrick/Beecher City\, Cumberland\, Dieterich\, Neoga\, Newton\, North Clay\, Teutopolis at Robinson Invitational\, 4:30 p.m. TIME MOVED TO 3:30 START FOR GIRLS \nSoccer \nMount Zion at Effingham\, 4:30 p.m. \nGirls Tennis \nCasey-Westfield at Effingham\, 4:15 p.m. \nNewton at Mount Carmel\, 4:30 p.m. \nVolleyball \nTeutopolis at St. Anthony\, 5 p.m. \nTaylorville at Effingham\, 5 p.m. \nDieterich at Altamont\, 5 p.m. \nNeoga at Cowden-Herrick/Beecher City\, 5 p.m. \nSouth Central at Cumberland\, 5 p.m. \nNorth Clay at Windsor/Stewardson-Strasburg\, 5 p.m. \nJUNIOR VARSITY/FROSH/SOPH \nVolleyball \nMount Zion at Effingham\, 4:30 p.m. \nRobinson at Newton\, 5 p.m. \nSouth Central at Cumberland\, 5 p.m. \nJUNIOR HIGH SCHOOL \nGirls Basketball \nMahomet-Seymour at Effingham\, 6 p.m. \nOblong at St. Anthony\, 6 p.m. \nEffingham Sacred Heart at Neoga\, 6 p.m. \nBrownstown/St. Elmo at Windsor/Stewardson-Strasburg\, 6 p.m. \nCumberland at Sigel St. Michael \nRobinson at Jasper County\, 6 p.m. \nNorth Clay at Dieterich\, 6 p.m. \nVandalia at Teutopolis\, 6 p.m. \nMAJOR LEAGUE BASEBALL \nDetroit at Cleveland\, 2 p.m. \nALWC — Game 3\, series tied 1-1 \nSan Diego at Chicago Cubs\, 4 p.m. \nNLWC — Game 3\, series tied 1-1 \nBoston at New York Yankees\, 7 p.m. \nALWC — Game 3\, series tied 1-1
URL:https://www.thexradio.com/news/calendar/18768-thursdays-schedule-28/
CATEGORIES:Local Sports Calendar
END:VEVENT
END:VCALENDAR