BEGIN:VCALENDAR
VERSION:2.0
PRODID:-//Effingham&#039;s News and Sports Leader, 979XFM and KJ Country 102.3 - ECPv6.15.20//NONSGML v1.0//EN
CALSCALE:GREGORIAN
METHOD:PUBLISH
X-ORIGINAL-URL:https://www.thexradio.com/news
X-WR-CALDESC:Events for Effingham&#039;s News and Sports Leader, 979XFM and KJ Country 102.3
REFRESH-INTERVAL;VALUE=DURATION:PT1H
X-Robots-Tag:noindex
X-PUBLISHED-TTL:PT1H
BEGIN:VTIMEZONE
TZID:America/Chicago
BEGIN:DAYLIGHT
TZOFFSETFROM:-0600
TZOFFSETTO:-0500
TZNAME:CDT
DTSTART:20240310T080000
END:DAYLIGHT
BEGIN:STANDARD
TZOFFSETFROM:-0500
TZOFFSETTO:-0600
TZNAME:CST
DTSTART:20241103T070000
END:STANDARD
BEGIN:DAYLIGHT
TZOFFSETFROM:-0600
TZOFFSETTO:-0500
TZNAME:CDT
DTSTART:20250309T080000
END:DAYLIGHT
BEGIN:STANDARD
TZOFFSETFROM:-0500
TZOFFSETTO:-0600
TZNAME:CST
DTSTART:20251102T070000
END:STANDARD
BEGIN:DAYLIGHT
TZOFFSETFROM:-0600
TZOFFSETTO:-0500
TZNAME:CDT
DTSTART:20260308T080000
END:DAYLIGHT
BEGIN:STANDARD
TZOFFSETFROM:-0500
TZOFFSETTO:-0600
TZNAME:CST
DTSTART:20261101T070000
END:STANDARD
END:VTIMEZONE
BEGIN:VEVENT
DTSTART;VALUE=DATE:20251001
DTEND;VALUE=DATE:20251002
DTSTAMP:20260425T191218
CREATED:20250917T174739Z
LAST-MODIFIED:20251001T123755Z
UID:18765-1759276800-1759363199@www.thexradio.com
SUMMARY:Wednesday's Schedule
DESCRIPTION:HIGH SCHOOL \nBaseball \nCisne at South Central\, 4:30 p.m. \nBoys Golf \nClass 1A Carlyle Regional \nAltamont\, Brussels\, Carlyle Edwardsville Metro-East Lutheran\, Gillespie\, Glen Carbon Father McGivney\, Greenville\, Hillsboro\, Litchfield\, Maryville Christian\, Mount Olive\, Ramsey Co-op\, Roxana\, Sandoval Co-o\, Staunton Vandalia \nClass 1A Macon Meridian Regional \nWindsor/Stewardson-Strasburg\, Arcola Co-op\, Argenta-Oreana\, Auburn\, Bethany Okaw Valley\, Cerro Gordo\, Clinton\, Decatur St. Teresa\, Decatur Unity Christian\, Macon Meridian\, Monticello\, Moweaqua Central A&M\, Pana\, Shelbyville\, Sullivan\, Virden North Mac \nClass 1A McLeansboro Regional \nDieterich\, North Clay\, Newton\, Teutopolis\, Edwards County (Albion)\, Carmi-White County\, Cisne\, Fairfield\, Flora\, McLeansboro Hamilton County\, Mount Carmel\, Norris City-Omaha-Enfield\, Oblong Co-op\, Robinson\, Wayne City \nClass 2A Effingham Regional \nEffingham\, Red Hill (Bridgeport)\, Charleston\, Mattoon\, Mount Zion\, Richland County\, Olney\, Paris \nSoccer \nEffingham at Hillsboro\, 5 p.m. \nJUNIOR VARSITY/FROSH/SOPH \nBaseball \nBrownstown/St. Elmo at Neoga\, 4:30 p.m. \nSoccer \nEffingham at Hillsboro\, 7 p.m. \nJUNIOR HIGH SCHOOL \nCross Country \nSt. Anthony\, Altamont Lutheran\, Cowden-Herrick/Beecher City\, Cumberland\, Dieterich\, Jasper County\, Windsor at Robinson Invitational\, 4 p.m. \nMAJOR LEAGUE BASEBALL \nWild Card Series
URL:https://www.thexradio.com/news/calendar/18765-wednesdays-schedule-30/
CATEGORIES:Local Sports Calendar
END:VEVENT
END:VCALENDAR