BEGIN:VCALENDAR
VERSION:2.0
PRODID:-//Effingham&#039;s News and Sports Leader, 979XFM and KJ Country 102.3 - ECPv6.15.20//NONSGML v1.0//EN
CALSCALE:GREGORIAN
METHOD:PUBLISH
X-WR-CALNAME:Effingham&#039;s News and Sports Leader, 979XFM and KJ Country 102.3
X-ORIGINAL-URL:https://www.thexradio.com/news
X-WR-CALDESC:Events for Effingham&#039;s News and Sports Leader, 979XFM and KJ Country 102.3
REFRESH-INTERVAL;VALUE=DURATION:PT1H
X-Robots-Tag:noindex
X-PUBLISHED-TTL:PT1H
BEGIN:VTIMEZONE
TZID:America/Chicago
BEGIN:DAYLIGHT
TZOFFSETFROM:-0600
TZOFFSETTO:-0500
TZNAME:CDT
DTSTART:20240310T080000
END:DAYLIGHT
BEGIN:STANDARD
TZOFFSETFROM:-0500
TZOFFSETTO:-0600
TZNAME:CST
DTSTART:20241103T070000
END:STANDARD
BEGIN:DAYLIGHT
TZOFFSETFROM:-0600
TZOFFSETTO:-0500
TZNAME:CDT
DTSTART:20250309T080000
END:DAYLIGHT
BEGIN:STANDARD
TZOFFSETFROM:-0500
TZOFFSETTO:-0600
TZNAME:CST
DTSTART:20251102T070000
END:STANDARD
BEGIN:DAYLIGHT
TZOFFSETFROM:-0600
TZOFFSETTO:-0500
TZNAME:CDT
DTSTART:20260308T080000
END:DAYLIGHT
BEGIN:STANDARD
TZOFFSETFROM:-0500
TZOFFSETTO:-0600
TZNAME:CST
DTSTART:20261101T070000
END:STANDARD
END:VTIMEZONE
BEGIN:VEVENT
DTSTART;VALUE=DATE:20250930
DTEND;VALUE=DATE:20251001
DTSTAMP:20260425T191138
CREATED:20250917T174613Z
LAST-MODIFIED:20250917T174613Z
UID:18763-1759190400-1759276799@www.thexradio.com
SUMMARY:Tuesday's Schedule
DESCRIPTION:HIGH SCHOOL \nBaseball \nSt. Anthony at Dieterich\, 4 p.m. \nAltamont at Neoga\, 4 p.m. \nCowden-Herrick/Beecher City at Windsor/Stewardson-Strasburg\, 4 p.m. \nNorth Clay at South Central\, 4:30 p.m. \nRamsey at St. Elmo/Brownstown\, 4:30 p.m. \nCross Country \nNorth Clay\, Grayville at Dieterich\, 4:30 p.m. \nBoys Golf \nFlora at Effingham\, 4 p.m. \nGirls Golf \nRegionals\, TBA \nSoccer \nEffingham at Mattoon\, 5 p.m. \nSt. Anthony at Arthur-Lovington/Atwood-Hammond\, 4:30 p.m. \nAltamont at Salem\, 4:30 p.m. \nNewton at Teutopolis\, 5:30 p.m. \nGirls Tennis \nChampaign St. Thomas More at St. Anthony\, 4:30 p.m. \nNewton at Paris\, 4:30 p.m. \nTeutopolis at Robinson\, 4:30 p.m. \nVolleyball \nEffingham at Mount Zion\, 5 p.m. \nSt. Anthony at Altamont\, 5 p.m. \nCowden-Herrick/Beecher City at Windsor/Stewardson\, 5 p.m. \nArcola at Cumberland\, 6 p.m. \nTeutopolis at Dieterich\, 6 p.m. \nNeoga at Ramsey\, 6 p.m. \nOblong at St. Elmo/Brownstown\, 6:15 p.m. \nNewton at Vandalia\, 5 p.m. \nJUNIOR VARSITY/FROSH/SOPH \nSoccer \nEffingham at Mattoon\, 4:30 p.m. \nGirls Tennis \nTeutopolis at Robinson\, 4:30 p.m. \nJUNIOR HIGH SCHOOL \nGirls Basketball \nNeoga at St. Anthony\, 6 p.m. \nBrownstown/St. Elmo at Windsor/Stewardson-Strasburg\, 6 p.m. \nDieterich at Altamont\, 6 p.m. \nNorth Clay at Teutopolis\, 6 p.m. \nStewardson-Strasburg at Casey-Westfield\, 6 p.m. \nMAJOR LEAGUE BASEBALL \nWild Card Series
URL:https://www.thexradio.com/news/calendar/18763-tuesdays-schedule-29/
CATEGORIES:Local Sports Calendar
END:VEVENT
END:VCALENDAR