BEGIN:VCALENDAR
VERSION:2.0
PRODID:-//Effingham&#039;s News and Sports Leader, 979XFM and KJ Country 102.3 - ECPv6.15.20//NONSGML v1.0//EN
CALSCALE:GREGORIAN
METHOD:PUBLISH
X-WR-CALNAME:Effingham&#039;s News and Sports Leader, 979XFM and KJ Country 102.3
X-ORIGINAL-URL:https://www.thexradio.com/news
X-WR-CALDESC:Events for Effingham&#039;s News and Sports Leader, 979XFM and KJ Country 102.3
REFRESH-INTERVAL;VALUE=DURATION:PT1H
X-Robots-Tag:noindex
X-PUBLISHED-TTL:PT1H
BEGIN:VTIMEZONE
TZID:America/Chicago
BEGIN:DAYLIGHT
TZOFFSETFROM:-0600
TZOFFSETTO:-0500
TZNAME:CDT
DTSTART:20250309T080000
END:DAYLIGHT
BEGIN:STANDARD
TZOFFSETFROM:-0500
TZOFFSETTO:-0600
TZNAME:CST
DTSTART:20251102T070000
END:STANDARD
BEGIN:DAYLIGHT
TZOFFSETFROM:-0600
TZOFFSETTO:-0500
TZNAME:CDT
DTSTART:20260308T080000
END:DAYLIGHT
BEGIN:STANDARD
TZOFFSETFROM:-0500
TZOFFSETTO:-0600
TZNAME:CST
DTSTART:20261101T070000
END:STANDARD
BEGIN:DAYLIGHT
TZOFFSETFROM:-0600
TZOFFSETTO:-0500
TZNAME:CDT
DTSTART:20270314T080000
END:DAYLIGHT
BEGIN:STANDARD
TZOFFSETFROM:-0500
TZOFFSETTO:-0600
TZNAME:CST
DTSTART:20271107T070000
END:STANDARD
END:VTIMEZONE
BEGIN:VEVENT
DTSTART;VALUE=DATE:20260425
DTEND;VALUE=DATE:20260426
DTSTAMP:20260425T102034
CREATED:20260318T145850Z
LAST-MODIFIED:20260318T152302Z
UID:33190-1777075200-1777161599@www.thexradio.com
SUMMARY:Orphan Benefit & Jason Gray Concert
DESCRIPTION:Print
URL:https://www.thexradio.com/news/calendar/33190-orphan-benefit-jason-gray-concert/
CATEGORIES:Community Calendar
END:VEVENT
BEGIN:VEVENT
DTSTART;VALUE=DATE:20260425
DTEND;VALUE=DATE:20260426
DTSTAMP:20260425T102034
CREATED:20260318T153716Z
LAST-MODIFIED:20260318T153828Z
UID:33201-1777075200-1777161599@www.thexradio.com
SUMMARY:Frozen The Broadway Musical at Teutopolis
DESCRIPTION:Print \nTickets are available at the door for $10.
URL:https://www.thexradio.com/news/calendar/33201-33201/
CATEGORIES:Community Calendar
END:VEVENT
BEGIN:VEVENT
DTSTART;VALUE=DATE:20260425
DTEND;VALUE=DATE:20260426
DTSTAMP:20260425T102034
CREATED:20260320T144001Z
LAST-MODIFIED:20260320T144001Z
UID:33424-1777075200-1777161599@www.thexradio.com
SUMMARY:Garage Sale for Humane Society
DESCRIPTION:Print
URL:https://www.thexradio.com/news/calendar/33424-garage-sale-for-humane-society-2/
CATEGORIES:Community Calendar
END:VEVENT
BEGIN:VEVENT
DTSTART;VALUE=DATE:20260425
DTEND;VALUE=DATE:20260426
DTSTAMP:20260425T102034
CREATED:20260407T170656Z
LAST-MODIFIED:20260407T195437Z
UID:34794-1777075200-1777161599@www.thexradio.com
SUMMARY:Enduring Freedom Ministries Distributions in April
DESCRIPTION:PrintEnduring Freedom Ministries distribution days for April: \nTuesday\, April 7th from 4-6pm\, 304 S. West Street\, Shumway \nWednesday\, April 8th from Noon to 2pm\, 304 S. West Street\, Shumway \nSaturday\, April 11th from 9-Noon\, 861 E. Washington\, Mason (Mason Civic Center) \nTuesday\, April 14th from 4-6pm\, 304 S. West Street\, Shumway \nWednesday\, April 15th from Noon to 2pm\, 304 S. West Street\, Shumway \nWednesday\, April 22nd from Noon to 2pm or until we run out of food (no appointment necessary).  This is a Mobile Drive-Through Food Pantry at the Kohl’s Parking lot in Effingham. \nSaturday\, April 25th from 8:30-Noon\, 304 S. West Street\, Shumway \nPlease call 217-240-0059 to sign up.  It’s free and for everyone!
URL:https://www.thexradio.com/news/calendar/34794-34794/
CATEGORIES:Community Calendar
END:VEVENT
BEGIN:VEVENT
DTSTART;VALUE=DATE:20260425
DTEND;VALUE=DATE:20260426
DTSTAMP:20260425T102034
CREATED:20260414T193452Z
LAST-MODIFIED:20260414T193652Z
UID:35351-1777075200-1777161599@www.thexradio.com
SUMMARY:Benefit for Linda Snyder
DESCRIPTION:Print \nCome support Linda in her fight against cancer!  There will be: \n– Blind Draw Doubles Pool and Dart Tournament at 1pm with a $20 registration beginning at 12pm \n– 50/50 Raffle \n– Baskets Raffle with gift cards and donations from local businesses \n– Silent Auctions for a variety of items including new darts\, pool cues\, and electric dart board
URL:https://www.thexradio.com/news/calendar/35351-benefit-for-linda-snyder/
CATEGORIES:Community Calendar
END:VEVENT
BEGIN:VEVENT
DTSTART;VALUE=DATE:20260425
DTEND;VALUE=DATE:20260426
DTSTAMP:20260425T102034
CREATED:20260416T153754Z
LAST-MODIFIED:20260416T173147Z
UID:35564-1777075200-1777161599@www.thexradio.com
SUMMARY:Saturday's Schedule
DESCRIPTION:PrintHIGH SCHOOL \nBaseball \nSt. Anthony at Mattoon\, 10 a.m. \nRobinson at Dieterich\, 9 a.m. \nNeoga at Flora (DH)\, 10 a.m. \nFreeburg vs. Teutopolis at Teutopolis Round Robin\, 10 a.m. \nGibault Catholic vs. Teutopolis at Teutopolis Round Robin\, noon \nSoftball \nTeutopolis vs. Clay City\, Ind. at West Vigo Tournament\, TBA \nTeutopolis vs. West Vigo at West Vigo Tournament\, TBA \nBoys Tennis \nEffingham at Triad Tournament\, 9 a.m. \nNewton at Charleston Invitational\, 9 a.m. \nTeutopolis at Lasalle-Peru Quad\, 9 a.m. \nBoys Track \nEffingham\, Altamont at Edwardsville Winston Brown Invitational\, 11 a.m. \nCowden-Herrick/Beecher City\, Patoka/South Central at Carlyle\, 10 a.m. \nGirls Track \nCowden-Herrick/Beecher City\, Patoka/South Central at Carlyle\, 10 a.m. \nJUNIOR VARSITY \nBaseball \nMattoon at St. Anthony\, 10 a.m. \nNewton at Robinson (DH)\, 10 a.m. \nSoftball \nSt. Anthony at Newton HAS BEEN CANCELED \nAltamont JV Tournament\, TBA \nJUNIOR HIGH SCHOOL \nTrack \nEffingham\, Neoga\, Teutopolis at Tuscola East Prairie Invitational\, 10 a.m. \nMAJOR LEAGUE BASEBALL \nChicago Cubs at Los Angeles Dodgers\, 6:15 p.m. \nSeattle at St. Louis Cardinals\, 1:15 p.m. \nNASCAR \nAg Pro 300 at Talladega Superspeedway\, 2:30 p.m.
URL:https://www.thexradio.com/news/calendar/35564-saturdays-schedule-58/
CATEGORIES:Local Sports Calendar
END:VEVENT
BEGIN:VEVENT
DTSTART;VALUE=DATE:20260425
DTEND;VALUE=DATE:20260426
DTSTAMP:20260425T102034
CREATED:20260417T164228Z
LAST-MODIFIED:20260417T193010Z
UID:35657-1777075200-1777161599@www.thexradio.com
SUMMARY:The Frosted Republic - How Illinois Taught America to Celebrate with Cake
DESCRIPTION:PrintThe Lincoln Log Cabin State Historic Site presents The Frosted Republic- How Illinois Taught America to Celebrate with Cake.  This event will be in the Visitor Center Auditorium on Saturday\, April 25\, at 2:00 p.m. \n\nCake is more than dessert; it’s a reflection of who we are and how we celebrate.  “The Frosted Republic” traces Illinois’ surprising role in shaping America’s sweet traditions — from Wilton’s early classrooms in Roseland\, to Duncan Hines’ Chicago food guides\, to Sara Lee’s Downers Grove bakery that made celebration accessible to every freezer aisle.  Together\, these stories reveal how Illinois became a quiet engine of cultural joy\, teaching the nation to express love\, resilience\, and creativity through buttercream\, boxed mixes\, and pound cakes. \nIn this Illinois Humanities Road Scholar Presentation\, Chef Lori Parrett leads audiences through this history as both pastry chef and storyteller\, blending archival research\, lived experience\, and visual demonstration.  Using slides\, vintage imagery\, and a few edible artifacts\, she invites participants to see cake decorating as both craft and cultural record—evidence of migration\, ingenuity\, and the art of making do. \nWarm\, interactive\, and grounded in Illinois history\, “The Frosted Republic” reminds audiences that every piped rose and every slice shared tells a story about who we are and how we celebrate together. \nThe Lincoln Log Cabin State Historic Site is located at 402 South Lincoln Highway Road\, near Lerna. \nTo contact them\, call 217-345-1845 or visit lincolnlogcabin.org
URL:https://www.thexradio.com/news/calendar/35657-the-frosted-republic-how-illinois-taught-america-to-celebrate-with-cake/
CATEGORIES:Community Calendar
END:VEVENT
BEGIN:VEVENT
DTSTART;VALUE=DATE:20260425
DTEND;VALUE=DATE:20260426
DTSTAMP:20260425T102034
CREATED:20260417T200232Z
LAST-MODIFIED:20260417T200343Z
UID:35667-1777075200-1777161599@www.thexradio.com
SUMMARY:Pancake Breakfast & Silent Auction for El Shaddai
DESCRIPTION:Print
URL:https://www.thexradio.com/news/calendar/35667-pancake-breakfast-silent-auction-for-el-shaddai/
CATEGORIES:Community Calendar
END:VEVENT
BEGIN:VEVENT
DTSTART;VALUE=DATE:20260425
DTEND;VALUE=DATE:20260426
DTSTAMP:20260425T102034
CREATED:20260420T194148Z
LAST-MODIFIED:20260422T151722Z
UID:35806-1777075200-1777161599@www.thexradio.com
SUMMARY:Rummage Sale for Altamont First United Methodist Church
DESCRIPTION:Print \nItems donated to Altamont First United Methodist Church are going towards the Missions.
URL:https://www.thexradio.com/news/calendar/35806-35806/
CATEGORIES:Community Calendar
END:VEVENT
BEGIN:VEVENT
DTSTART;VALUE=DATE:20260425
DTEND;VALUE=DATE:20260426
DTSTAMP:20260425T102034
CREATED:20260423T145145Z
LAST-MODIFIED:20260423T145318Z
UID:36125-1777075200-1777161599@www.thexradio.com
SUMMARY:Community Tree Planting in Effingham
DESCRIPTION:Print
URL:https://www.thexradio.com/news/calendar/36125-community-tree-planting-in-effingham/
CATEGORIES:Community Calendar
END:VEVENT
END:VCALENDAR