BEGIN:VCALENDAR
VERSION:2.0
PRODID:-//Effingham&#039;s News and Sports Leader, 979XFM and KJ Country 102.3 - ECPv6.15.20//NONSGML v1.0//EN
CALSCALE:GREGORIAN
METHOD:PUBLISH
X-WR-CALNAME:Effingham&#039;s News and Sports Leader, 979XFM and KJ Country 102.3
X-ORIGINAL-URL:https://www.thexradio.com/news
X-WR-CALDESC:Events for Effingham&#039;s News and Sports Leader, 979XFM and KJ Country 102.3
REFRESH-INTERVAL;VALUE=DURATION:PT1H
X-Robots-Tag:noindex
X-PUBLISHED-TTL:PT1H
BEGIN:VTIMEZONE
TZID:America/Chicago
BEGIN:DAYLIGHT
TZOFFSETFROM:-0600
TZOFFSETTO:-0500
TZNAME:CDT
DTSTART:20250309T080000
END:DAYLIGHT
BEGIN:STANDARD
TZOFFSETFROM:-0500
TZOFFSETTO:-0600
TZNAME:CST
DTSTART:20251102T070000
END:STANDARD
BEGIN:DAYLIGHT
TZOFFSETFROM:-0600
TZOFFSETTO:-0500
TZNAME:CDT
DTSTART:20260308T080000
END:DAYLIGHT
BEGIN:STANDARD
TZOFFSETFROM:-0500
TZOFFSETTO:-0600
TZNAME:CST
DTSTART:20261101T070000
END:STANDARD
BEGIN:DAYLIGHT
TZOFFSETFROM:-0600
TZOFFSETTO:-0500
TZNAME:CDT
DTSTART:20270314T080000
END:DAYLIGHT
BEGIN:STANDARD
TZOFFSETFROM:-0500
TZOFFSETTO:-0600
TZNAME:CST
DTSTART:20271107T070000
END:STANDARD
END:VTIMEZONE
BEGIN:VEVENT
DTSTART;VALUE=DATE:20260422
DTEND;VALUE=DATE:20260423
DTSTAMP:20260422T031621
CREATED:20260416T153349Z
LAST-MODIFIED:20260417T152054Z
UID:35557-1776816000-1776902399@www.thexradio.com
SUMMARY:Wednesday's Schedule
DESCRIPTION:PrintHIGH SCHOOL \nBaseball \nMahomet-Seymour at Effingham\, 4:30 p.m. (LISTEN ON KJ COUNTRY 102.3) \nNeoga at Cowden-Herrick/Beecher City\, 4:30 p.m. \nArcola at Cumberland\, 4:30 p.m. \nRamsey at Windsor/Stewardson-Strasburg\, 4:30 p.m. \nSoftball \nCumberland at Neoga\, 4:30 p.m. \nSt. Elmo/Brownstown at Centralia Christ Our Rock Lutheran\, 4:30 p.m. \nRamsey at South Central\, 4:30 p.m. \nWindsor/Stewardson-Strasburg at Charleston\, 4:30 p.m. \nBoys Tennis \nMattoon at St. Anthony\, 4:30 p.m. \nJUNIOR VARSITY \nSoftball \nEffingham at Richland County\, Olney\, 4:30 p.m. \nMAJOR LEAGUE BASEBALL \nPhiladelphia at Chicago Cubs\, 6:40 p.m. \nSt. Louis Cardinals at Miami\, 11:10 a.m.
URL:https://www.thexradio.com/news/calendar/35557-wednesdays-schedule-59/
CATEGORIES:Local Sports Calendar
END:VEVENT
BEGIN:VEVENT
DTSTART;VALUE=DATE:20260422
DTEND;VALUE=DATE:20260423
DTSTAMP:20260422T031621
CREATED:20260407T170618Z
LAST-MODIFIED:20260407T195432Z
UID:34792-1776816000-1776902399@www.thexradio.com
SUMMARY:Enduring Freedom Ministries Distributions in April
DESCRIPTION:PrintEnduring Freedom Ministries distribution days for April: \nTuesday\, April 7th from 4-6pm\, 304 S. West Street\, Shumway \nWednesday\, April 8th from Noon to 2pm\, 304 S. West Street\, Shumway \nSaturday\, April 11th from 9-Noon\, 861 E. Washington\, Mason (Mason Civic Center) \nTuesday\, April 14th from 4-6pm\, 304 S. West Street\, Shumway \nWednesday\, April 15th from Noon to 2pm\, 304 S. West Street\, Shumway \nWednesday\, April 22nd from Noon to 2pm or until we run out of food (no appointment necessary).  This is a Mobile Drive-Through Food Pantry at the Kohl’s Parking lot in Effingham. \nSaturday\, April 25th from 8:30-Noon\, 304 S. West Street\, Shumway \nPlease call 217-240-0059 to sign up.  It’s free and for everyone!
URL:https://www.thexradio.com/news/calendar/34792-34792/
CATEGORIES:Community Calendar
END:VEVENT
END:VCALENDAR